BEGIN:VCALENDAR
VERSION:2.0
PRODID:-//Tulsa Botanic Garden - ECPv6.10.1.1//NONSGML v1.0//EN
CALSCALE:GREGORIAN
METHOD:PUBLISH
X-ORIGINAL-URL:https://www.tulsabotanic.org
X-WR-CALDESC:Events for Tulsa Botanic Garden
REFRESH-INTERVAL;VALUE=DURATION:PT1H
X-Robots-Tag:noindex
X-PUBLISHED-TTL:PT1H
BEGIN:VTIMEZONE
TZID:America/Chicago
BEGIN:DAYLIGHT
TZOFFSETFROM:-0600
TZOFFSETTO:-0500
TZNAME:CDT
DTSTART:20220313T080000
END:DAYLIGHT
BEGIN:STANDARD
TZOFFSETFROM:-0500
TZOFFSETTO:-0600
TZNAME:CST
DTSTART:20221106T070000
END:STANDARD
END:VTIMEZONE
BEGIN:VEVENT
DTSTART;TZID=America/Chicago:20221125T170000
DTEND;TZID=America/Chicago:20221125T210000
DTSTAMP:20260421T083217
CREATED:20221117T202854Z
LAST-MODIFIED:20221122T154717Z
UID:7944-1669395600-1669410000@www.tulsabotanic.org
SUMMARY:Botanic Garden of Lights
DESCRIPTION:Presented by: 								\n				\n				\n				\n																														\n				\n				\n				\n					Thursdays thru SundaysNovember 25 - December 4Nightly\, December 8-305-9 p.m.				\n				\n				\n				\n									Closed December 15\, 24 & 25. Reconnect with family and friends in the garden illuminated with colorful lights. Make s’mores over fire pits\, enjoy holiday music and take in the spirit of the season in our magical garden escape. Make your plans and get your timed-entry tickets now! Popular nights and times sell out quickly.  								\n				\n				\n				\n																\n															\n															\n				\n					\n		\n					\n		\n				\n						\n					\n			\n						\n				\n					Schedule				\n				\n				\n				\n									Included with admission \nPop-up Craft every Thursday night\, 5:30-8 p.m. \nBotanical St. Nick will be here 5-8 p.m. every Friday & Saturday (through Dec. 17) and every night\, Dec. 19-23. Bring your camera! \nKid’s Train Rides are every night except Sundays. \nLive Jazz Music in the Mabee Grange each Sunday\, 6:30-8:30 p.m.Nov. 27: Annie Ellicott & David BroomeDec. 4: The Green HornsDec. 11: Booker Gillespie TrioDec. 18: Mezclave \nLet It Go! The Snow Queen\, Snow Princess and friends will be visiting on Tuesday\, Wednesday and Thursday\, Dec. 27\, 28 & 29\, 5-8 p.m. \nCaroling by Tulsa Metro Sound on Thursday\, Dec. 8\, 5:30-8 p.m. 								\n				\n					\n		\n					\n		\n				\n						\n					\n			\n						\n				\n					Advance Tickets				\n				\n				\n				\n									Members: Ages 16+ | $10; Ages 3-15 | $5Non-members: Ages 16+ | $15; Ages 3-15 | $6Children Age 2 and under require a $0 ticket.Group rates (50+) available for purchase in advance only. Contact us for detailsIf available\, any day-of tickets will be: Members: Ages 16+ | $15; Ages 3-15 | $8 Non-members: Ages 16+ | $20; Ages 3-15 | $10 Prices increase at 12 a.m. on day of event 								\n				\n					\n		\n				\n			\n						\n				\n					Optional Ticket Add-ons				\n				\n				\n				\n									Available at Check Out Date Night Package $79  2 Tulsa Botanic Garden Insulated Travel Mugs4 Drink Tickets*2 S’mores KitsFamily Night Package $49 6 Drink Tickets*4 S’mores Kits*Drink tickets are good for any drink at our Botanic Bar.Please be prepared to show ID for alcoholic beverages. 								\n				\n					\n		\n					\n		\n				\n						\n					\n			\n						\n				\n									Food Truck Schedule\nNov. 25: Glow’s Ice CreamNov. 26: V’Fresco Food TruckNov. 27:  Glow’s Ice CreamDec. 1-4: V’Fresco Food Truck Dec. 8: Krumbly’s KitchenDec. 9-10: The Spud TruckDec. 11: Krumbly’s KitchenDec. 12-14: Steak & Bake Food TruckDec. 16-18: The Po’ Boy Roller LLCDec. 19-23: Steak & Bake Food Truck Dec. 26-29: Andolini’s PizzeriaDec. 30: Smokin’ Son of a Gun BBQ 								\n				\n					\n		\n					\n		\n				\n						\n					\n			\n						\n				\n					Purchase tickets today!
URL:https://www.tulsabotanic.org/event/botanic-garden-of-lights-5/2022-11-25/
ATTACH;FMTTYPE=image/jpeg:https://www.tulsabotanic.org/wp-content/uploads/2022/09/Tulsa-Botanic-Garden-of-Lights-TandyTerraces.jpg
END:VEVENT
END:VCALENDAR