BEGIN:VCALENDAR
VERSION:2.0
PRODID:-//Tulsa Botanic Garden - ECPv6.10.1.1//NONSGML v1.0//EN
CALSCALE:GREGORIAN
METHOD:PUBLISH
X-WR-CALNAME:Tulsa Botanic Garden
X-ORIGINAL-URL:https://www.tulsabotanic.org
X-WR-CALDESC:Events for Tulsa Botanic Garden
REFRESH-INTERVAL;VALUE=DURATION:PT1H
X-Robots-Tag:noindex
X-PUBLISHED-TTL:PT1H
BEGIN:VTIMEZONE
TZID:America/Chicago
BEGIN:DAYLIGHT
TZOFFSETFROM:-0600
TZOFFSETTO:-0500
TZNAME:CDT
DTSTART:20240310T080000
END:DAYLIGHT
BEGIN:STANDARD
TZOFFSETFROM:-0500
TZOFFSETTO:-0600
TZNAME:CST
DTSTART:20241103T070000
END:STANDARD
END:VTIMEZONE
BEGIN:VEVENT
DTSTART;TZID=America/Chicago:20240301T103000
DTEND;TZID=America/Chicago:20240301T111500
DTSTAMP:20260421T064641
CREATED:20240220T185020Z
LAST-MODIFIED:20240301T043508Z
UID:12567-1709289000-1709291700@www.tulsabotanic.org
SUMMARY:Garden Reopens! First Friday Horticulture Tour
DESCRIPTION:Join us as the Garden reopens for 2024. We’ll have giveaways every hour.  A staff horticulturist will lead a 45-minute walking tour in the Garden.  Tour is free with admission\, but spaces are limited. \nAdmission is FREE for Garden members. Join today!  \nAges 16+ | $10; Ages 3-15 | $5\, Children 2 and under are free.
URL:https://www.tulsabotanic.org/event/garden-reopens-first-friday-horticulture-tour/
CATEGORIES:Adult Programs,Paid Programs
ATTACH;FMTTYPE=image/jpeg:https://www.tulsabotanic.org/wp-content/uploads/2022/07/horttour-Adults-2-scaled.jpg
END:VEVENT
BEGIN:VEVENT
DTSTART;TZID=America/Chicago:20240302T100000
DTEND;TZID=America/Chicago:20240302T170000
DTSTAMP:20260421T064641
CREATED:20240220T185346Z
LAST-MODIFIED:20240302T021729Z
UID:12570-1709373600-1709398800@www.tulsabotanic.org
SUMMARY:Reopening Weekend
DESCRIPTION:We’re celebrating our reopening for 2024 with a day full of activities – join us! Pick up our spring scavenger hunt in the visitor to see how many signs of spring you can find! \n10 a.m. – Horticulture Tour: join Garden staff for a 30–45-minute walking tour.  \n11 a.m. – Storytime with author Marie Stephens & Jennifer Riem \nChildren’s book author Marie Stephens and Jennifer Riem will join us in the Tree Fort and share their books: “The Festival of the Pines” a story of tree sprites and their adventures among giant sequoia trees and “The Wishing Bridge”. \n2 p.m. – Horticulture Tour: join Garden staff for a 30–45-minute walking tour. \nEnjoy fun times with friends or family playing games like cornhole\, bocce ball\, ring toss\, or  Giant Jenga\, on the lawn. Food and drinks will be available for purchase from 11 to 3.   We’ll have giveaways each hour.   \nPurchase or renew a Garden membership onsite Saturday or Sunday and be entered to win 2 tickets to our annual spring party: Sip & Stroll (formerly Tiptoe through the Tulips) on Saturday\, April 13\, 5:30-8:30 p.m.  \nGarden of Eatin’ will be open 11 a.m. – 3 p.m. (Credit cards only)\nMenu  \nAll Beef Hot Dogs\nTULSA – w/shredded cheddar\, bacon bits & scallions – $7\nSIMPLE – served plain\, add your own condiments – $5\nSPROUT – kid sized\, served plain – $3 \nDRINKS\nMimosa- w/OJ or Cranberry – $6\nWine – $7\nLocal Beer – $5\nDomestic Beer – $4\nWater – $2\nFizzy Drinks – $2\nArnold Palmer – $2
URL:https://www.tulsabotanic.org/event/reopening-weekend/
CATEGORIES:Paid Programs
ATTACH;FMTTYPE=image/jpeg:https://www.tulsabotanic.org/wp-content/uploads/2024/02/Early-Tulips-3.9.17-82-1-scaled.jpg
END:VEVENT
BEGIN:VEVENT
DTSTART;TZID=America/Chicago:20240303T100000
DTEND;TZID=America/Chicago:20240303T170000
DTSTAMP:20260421T064641
CREATED:20240220T185641Z
LAST-MODIFIED:20240302T021542Z
UID:12573-1709460000-1709485200@www.tulsabotanic.org
SUMMARY:Reopening Weekend
DESCRIPTION:We’ll have giveaways every hour\, spring scavenger hunt for exploring the Garden and lawn games like cornhole\, garden ring toss\, Jenga and more. Regular admission. Free for Garden members. \nPurchase or renew a Garden membership onsite Saturday or Sunday and be entered to win 2 tickets to our annual spring party: Sip & Stroll (formerly Tiptoe through the Tulips) on Saturday\, April 13\, 5:30-8:30 p.m.  \nGarden of Eatin’ will be open 11 a.m. – 3 p.m. (Credit cards only)\nMenu  \nAll Beef Hot Dogs\nTULSA – w/shredded cheddar\, bacon bits & scallions – $7\nSIMPLE – served plain\, add your own condiments – $5\nSPROUT – kid sized\, served plain – $3 \nDRINKS\nMimosa- w/OJ or Cranberry – $6\nWine – $7\nLocal Beer – $5\nDomestic Beer – $4\nWater – $2\nFizzy Drinks – $2\nArnold Palmer – $2
URL:https://www.tulsabotanic.org/event/reopening-weekend-2/
ATTACH;FMTTYPE=image/jpeg:https://www.tulsabotanic.org/wp-content/uploads/2024/02/IMG_0237-scaled.jpg
END:VEVENT
BEGIN:VEVENT
DTSTART;TZID=America/Chicago:20240309T100000
DTEND;TZID=America/Chicago:20240309T170000
DTSTAMP:20260421T064641
CREATED:20240220T190453Z
LAST-MODIFIED:20240301T043437Z
UID:12576-1709978400-1710003600@www.tulsabotanic.org
SUMMARY:Second Saturday Dog Day
DESCRIPTION:Bring your pup for a walk (and sniffs!) in the Garden. We’ll have free pup cups while supplies last. Dogs must be up to date on all registrations and vaccinations and must be controlled on a non-retractable 6′ leash at all times by an adult. Owners are required to clean up after their pups. Maximum of 2 dogs per household. Please bring your own water bowl. 
URL:https://www.tulsabotanic.org/event/second-saturday-dog-day-16/
CATEGORIES:Adult Programs,Paid Programs
ATTACH;FMTTYPE=image/jpeg:https://www.tulsabotanic.org/wp-content/uploads/2023/09/DSC00423-scaled.jpg
END:VEVENT
BEGIN:VEVENT
DTSTART;TZID=America/Chicago:20240316T100000
DTEND;TZID=America/Chicago:20240316T170000
DTSTAMP:20260421T064641
CREATED:20240304T223101Z
LAST-MODIFIED:20240816T012810Z
UID:12716-1710583200-1710608400@www.tulsabotanic.org
SUMMARY:Sean Kenney’s Nature POP! Made with LEGO Bricks
DESCRIPTION:Bring a POP of color to your life at Nature POP! — now open at Tulsa Botanic Garden! This new exhibition\, featuring sculptures made from more than 800\,000 LEGO® pieces\, explores the beauty of nature through contemporary\, stylized\, and colorful displays. Blending art\, science\, and innovation\, the larger-than-life sculptures in Nature POP! invite you to consider: just as LEGO bricks interconnect\, how is everything in nature interconnected? \nWhimsical\, bold\, and bombastic\, Nature POP! will delight and inspire the whole family! \nThe exhibit opens Saturday\, March 16 with spring break activities planned throughout the week of March 18-22. The Garden will be open on Monday\, March 18.  Regular hours are Tuesday – Sunday\, 10 a.m. to 5 p.m.  Garden will close at 2:30 p.m. on Saturday\, April 13.  \nStarting April 4\, the Garden will be open on select Thursdays until 8 p.m. with evening Bands & Blooms concerts from 6 to 8 p.m. Visitors can bring chairs or blankets to listen to live music on the lawn and stroll the Garden to experience spring blooms and Sean Kenney’s Nature POP! \nRegular admission to the Garden during the exhibit (March 16-May 9) will be free for Garden members; $15 for ages 16 and up\, $10 for ages 3 to 15. Children 2 and under are free.  Field trip information can be found here.  \nGuest passes\, reciprocal admission and onsite discounted pricing (other than Museums for All pricing below) will not apply for regular admission during the exhibit. (March 16-May 9\, 2024) \nMuseums for All – Discounted tickets\nRecipients of SNAP or WIC benefits can receive discounted general admission by showing a valid EBT and photo ID. Oklahoma Foster families can receive discounted pricing below by showing their Oklahoma Foster Parent Exclusive Membership Card. Prices for Museums for All (SNAP/WIC/Oklahoma Foster Parent) are $6 for ages 16 and up\, $4 for ages 3-15. A limit of 4 tickets may be purchased with this rate\, one time per household. \n \nSean Kenney’s Nature POP! exhibit at the Garden is made possible by funding from the Etta Mae Avery Trust. \nThis project was made possible by Oklahoma Arts Sector ARPA Grants\, an investment made by leaders of the State of Oklahoma\, led by the Oklahoma Arts Council in partnership with Allied Arts OKC and Arts Alliance Tulsa.   \n                 \n 
URL:https://www.tulsabotanic.org/event/sean-kenneys-nature-pop-made-with-lego-bricks/
CATEGORIES:Family Programs
ATTACH;FMTTYPE=image/png:https://www.tulsabotanic.org/wp-content/uploads/2024/03/web1120x350.png
END:VEVENT
BEGIN:VEVENT
DTSTART;TZID=America/Chicago:20240317T100000
DTEND;TZID=America/Chicago:20240317T170000
DTSTAMP:20260421T064641
CREATED:20240312T152709Z
LAST-MODIFIED:20240312T152709Z
UID:12969-1710669600-1710694800@www.tulsabotanic.org
SUMMARY:St. Patrick's Day
DESCRIPTION:Wear green and come enjoy some special St. Patrick’s Day activities at the Garden. We will have a special St. Patrick’s Day scavenger hunt and food & drinks available in the Garden of Eatin’.\n \nSt. Patrick’s Day will be even MORE fun with Nature POP!® – an exhibition from artist Sean Kenney\, featuring over 40 sculptures made from more than 800\,000 LEGO® pieces. Making its Oklahoma premiere at the Garden from March 16 through May 9\, you’ll marvel at the artistry and engineering of these larger-than-life sculptures exploring the beauty of nature through contemporary\, stylized\, and colorful displays
URL:https://www.tulsabotanic.org/event/st-patricks-day/
CATEGORIES:Family Programs
ATTACH;FMTTYPE=image/jpeg:https://www.tulsabotanic.org/wp-content/uploads/2024/03/yan-ming-w1MrSC_JMs8-unsplash-scaled.jpg
END:VEVENT
END:VCALENDAR