BEGIN:VCALENDAR
VERSION:2.0
PRODID:-//Tulsa Botanic Garden - ECPv6.10.1.1//NONSGML v1.0//EN
CALSCALE:GREGORIAN
METHOD:PUBLISH
X-ORIGINAL-URL:https://www.tulsabotanic.org
X-WR-CALDESC:Events for Tulsa Botanic Garden
REFRESH-INTERVAL;VALUE=DURATION:PT1H
X-Robots-Tag:noindex
X-PUBLISHED-TTL:PT1H
BEGIN:VTIMEZONE
TZID:America/Chicago
BEGIN:DAYLIGHT
TZOFFSETFROM:-0600
TZOFFSETTO:-0500
TZNAME:CDT
DTSTART:20210314T080000
END:DAYLIGHT
BEGIN:STANDARD
TZOFFSETFROM:-0500
TZOFFSETTO:-0600
TZNAME:CST
DTSTART:20211107T070000
END:STANDARD
END:VTIMEZONE
BEGIN:VEVENT
DTSTART;TZID=America/Chicago:20211102T120000
DTEND;TZID=America/Chicago:20211102T170000
DTSTAMP:20260421T064714
CREATED:20211012T181955Z
LAST-MODIFIED:20211012T181955Z
UID:2031-1635854400-1635872400@www.tulsabotanic.org
SUMMARY:Daytime Admission-Tickets
DESCRIPTION:HOURS: Starting Nov. 1\, Garden will be open Tuesday-Sunday\, 12 – 5 p.m\, in November\, December\, January and February.  Please Note: Garden will be closed during the day on any date that Botanic Garden of Lights is scheduled. \nTICKETS: Advance tickets via online purchase are required.  Admission is FREE for Garden members;  $8 for ages 16+\, $4 for ages 3-15. Children 2 and under are free. \nJoin as a member or renew your membership for free admission and more! \n \nNeed help?  Watch short Buying Tickets video. \n \nMEMBERS – you MUST Login to see member (no-cost) tickets.  Watch Member Reservations tutorial  \nThe Botanic Garden has the following protocols and safety meaures in place: \n\nMasks are optional for visitors both inside the Visitor Center and outside. \nGuests are encouraged to practice social distancing from others not in your group while enjoying the Garden.\n\nSee all Garden visitor guidelines. \nDiscounted admission for SNAP/WIC participants is available: $1 for up to four people (ages 13+). Children 12 and under in group are free. Advance tickets are required and must be obtained by calling 918-289-0330. EBT card and photo ID required at check-in.
URL:https://www.tulsabotanic.org/event/daytime-admission-tickets-24/
ATTACH;FMTTYPE=image/jpeg:https://www.tulsabotanic.org/wp-content/uploads/2022/05/featured-default-image_0-90.jpg
END:VEVENT
BEGIN:VEVENT
DTSTART;TZID=America/Chicago:20211103T120000
DTEND;TZID=America/Chicago:20211103T170000
DTSTAMP:20260421T064714
CREATED:20211019T190619Z
LAST-MODIFIED:20211019T190619Z
UID:2027-1635940800-1635958800@www.tulsabotanic.org
SUMMARY:Daytime Admission - Adv. Tickets
DESCRIPTION:HOURS: Starting Nov. 1\, Garden will be open Tuesday-Sunday\, 12 – 5 p.m\, in November\, December\, January and February.  Please Note: Garden will be closed during the day on any date that Botanic Garden of Lights is scheduled. \nTICKETS: Advance tickets via online purchase are required.  Admission is FREE for Garden members;  $8 for ages 16+\, $4 for ages 3-15. Children 2 and under are free. \nJoin as a member or renew your membership for free admission and more! \n \nNeed help?  Watch short Buying Tickets video. \n \nMEMBERS – you MUST Login to see member (no-cost) tickets.  Watch Member Reservations tutorial  \nThe Botanic Garden has the following protocols and safety meaures in place: \n\nMasks are optional for visitors both inside the Visitor Center and outside. \nGuests are encouraged to practice social distancing from others not in your group while enjoying the Garden.\n\nSee all Garden visitor guidelines. \nDiscounted admission for SNAP/WIC participants is available: $1 for up to four people (ages 13+). Children 12 and under in group are free. Advance tickets are required and must be obtained by calling 918-289-0330. EBT card and photo ID required at check-in.
URL:https://www.tulsabotanic.org/event/daytime-admission-adv-tickets-9/
ATTACH;FMTTYPE=image/jpeg:https://www.tulsabotanic.org/wp-content/uploads/2022/05/featured-default-image_0-89.jpg
END:VEVENT
BEGIN:VEVENT
DTSTART;TZID=America/Chicago:20211104T120000
DTEND;TZID=America/Chicago:20211104T170000
DTSTAMP:20260421T064714
CREATED:20211019T190644Z
LAST-MODIFIED:20211019T190644Z
UID:2025-1636027200-1636045200@www.tulsabotanic.org
SUMMARY:Daytime Admission - Adv. Tickets
DESCRIPTION:HOURS: Starting Nov. 1\, Garden will be open Tuesday-Sunday\, 12 – 5 p.m\, in November\, December\, January and February.  Please Note: Garden will be closed during the day on any date that Botanic Garden of Lights is scheduled. \nTICKETS: Advance tickets via online purchase are required.  Admission is FREE for Garden members;  $8 for ages 16+\, $4 for ages 3-15. Children 2 and under are free. \nJoin as a member or renew your membership for free admission and more! \n \nNeed help?  Watch short Buying Tickets video. \n \nMEMBERS – you MUST Login to see member (no-cost) tickets.  Watch Member Reservations tutorial  \nThe Botanic Garden has the following protocols and safety meaures in place: \n\nMasks are optional for visitors both inside the Visitor Center and outside. \nGuests are encouraged to practice social distancing from others not in your group while enjoying the Garden.\n\nSee all Garden visitor guidelines. \nDiscounted admission for SNAP/WIC participants is available: $1 for up to four people (ages 13+). Children 12 and under in group are free. Advance tickets are required and must be obtained by calling 918-289-0330. EBT card and photo ID required at check-in.
URL:https://www.tulsabotanic.org/event/daytime-admission-adv-tickets-8/
ATTACH;FMTTYPE=image/jpeg:https://www.tulsabotanic.org/wp-content/uploads/2022/05/featured-default-image_0-88.jpg
END:VEVENT
BEGIN:VEVENT
DTSTART;TZID=America/Chicago:20211105T120000
DTEND;TZID=America/Chicago:20211105T170000
DTSTAMP:20260421T064714
CREATED:20211019T190712Z
LAST-MODIFIED:20211019T190712Z
UID:2023-1636113600-1636131600@www.tulsabotanic.org
SUMMARY:Daytime Admission - Adv. Tickets
DESCRIPTION:HOURS: Starting Nov. 1\, Garden will be open Tuesday-Sunday\, 12 – 5 p.m\, in November\, December\, January and February.  Please Note: Garden will be closed during the day on any date that Botanic Garden of Lights is scheduled. \nTICKETS: Advance tickets via online purchase are required.  Admission is FREE for Garden members;  $8 for ages 16+\, $4 for ages 3-15. Children 2 and under are free. \nJoin as a member or renew your membership for free admission and more! \n \nNeed help?  Watch short Buying Tickets video. \n \nMEMBERS – you MUST Login to see member (no-cost) tickets.  Watch Member Reservations tutorial  \nThe Botanic Garden has the following protocols and safety meaures in place: \n\nMasks are optional for visitors both inside the Visitor Center and outside. \nGuests are encouraged to practice social distancing from others not in your group while enjoying the Garden.\n\nSee all Garden visitor guidelines. \nDiscounted admission for SNAP/WIC participants is available: $1 for up to four people (ages 13+). Children 12 and under in group are free. Advance tickets are required and must be obtained by calling 918-289-0330. EBT card and photo ID required at check-in.
URL:https://www.tulsabotanic.org/event/daytime-admission-adv-tickets-7/
ATTACH;FMTTYPE=image/jpeg:https://www.tulsabotanic.org/wp-content/uploads/2022/05/featured-default-image_0-87.jpg
END:VEVENT
BEGIN:VEVENT
DTSTART;TZID=America/Chicago:20211111T180000
DTEND;TZID=America/Chicago:20211111T200000
DTSTAMP:20260421T064714
CREATED:20211011T192010Z
LAST-MODIFIED:20211011T192010Z
UID:2035-1636653600-1636660800@www.tulsabotanic.org
SUMMARY:Stargazing Night
DESCRIPTION:Enjoy the Botanic Garden’s broad skies at night! Bring your own chairs or blanket and spread out on the lawn to look up at the night sky. Telescopes will be set out behind our Visitor Center\, and our cash bar will feature hot cocoa and a selection of beer\, wine and cocktails.  You are welcome to bring snacks (no glass and no outside alcohol).   \nDoors open at 5 p.m.  Stargazing begins at 6 p.m.  Arrival by 5:45 p.m. recommended.  Drinks will be available starting at 5:30 p.m. \nThe Astronomy Club of Tulsa will share their knowledge of stellar\, planetary and deep sky objects. Tulsa Botanic Garden will provide educational handouts to assist in learning more about the night sky.  Only red flashlights are encouraged\, to improve our night vision. We recommend downloading a few astronomy/stargazing apps on your smart phone.   \nThis is a come and go event.  We are limiting the number of tickets so please do not wait to purchase them. If the weather forces us to cancel this event\, we will reschedule by noon on the event day. \nTICKETS for ages 3 and up are $10 per person for Garden members and $15 per person for non-members.  No tickets will be sold at the door. \nSOLD OUT!  Please be looking for more Stargazing or Full Moon Hikes in January.   Do you have your tickets for Botanic Garden of Lights? 
URL:https://www.tulsabotanic.org/event/stargazing-night/
ATTACH;FMTTYPE=image/jpeg:https://www.tulsabotanic.org/wp-content/uploads/2022/05/108815069_10158035059236888_979011164865716064_o.jpeg
END:VEVENT
BEGIN:VEVENT
DTSTART;TZID=America/Chicago:20211118T123000
DTEND;TZID=America/Chicago:20211118T130000
DTSTAMP:20260421T064714
CREATED:20211029T211331Z
LAST-MODIFIED:20211029T211331Z
UID:1987-1637238600-1637240400@www.tulsabotanic.org
SUMMARY:Treefort Storytime
DESCRIPTION:Garden CEO Chuck Lamson will be our guest reader sharing a story in the Children’s Discovery Garden. Bring a picnic and explore the Garden afterward. Free with admission. \nGarden admission is $8 for ages 16 and up\, $4 for ages 3-15. Children 2 and under are free. \n \n 
URL:https://www.tulsabotanic.org/event/treefort-storytime/
ATTACH;FMTTYPE=image/jpeg:https://www.tulsabotanic.org/wp-content/uploads/2022/05/featured-default-image_0-70.jpg
END:VEVENT
BEGIN:VEVENT
DTSTART;TZID=America/Chicago:20211119T000000
DTEND;TZID=America/Chicago:20211119T000000
DTSTAMP:20260421T064714
CREATED:20211026T213615Z
LAST-MODIFIED:20211026T213615Z
UID:1989-1637280000-1637280000@www.tulsabotanic.org
SUMMARY:Garden Closed for Special Event
DESCRIPTION:Tulsa Botanic Garden will be closed on Friday\, Nov. 19 for a special event.
URL:https://www.tulsabotanic.org/event/garden-closed-for-special-event/
ATTACH;FMTTYPE=image/jpeg:https://www.tulsabotanic.org/wp-content/uploads/2022/05/featured-default-image_0-71.jpg
END:VEVENT
BEGIN:VEVENT
DTSTART;TZID=America/Chicago:20211119T183000
DTEND;TZID=America/Chicago:20211119T213000
DTSTAMP:20260421T064714
CREATED:20210828T025239Z
LAST-MODIFIED:20210828T025239Z
UID:2067-1637346600-1637357400@www.tulsabotanic.org
SUMMARY:Beaujolais et Lumière
DESCRIPTION:Mark your calendars and start making your reservations for tickets to Beaujolais et Lumière on Friday\, November 19\, 2021\, 6:30-9:30 p.m. \nBeaujolais et Lumière offers a French Bistro Evening celebrating the Release of the 2021 Beaujolais Nouveau and offering a Preview of the 2021 Botanic Garden of Lights!  \nDinner will be prepared by Summit Club Executive Chef Bill Lyle and seating will be tables of 4 or 6 in the Mabee Grange.  Tables of 2 and 8 can also be accommodated. \nTickets are $500 per person with proceeds benefiting Tulsa Botanic Garden.  Reservation deadline is Nov. 15.  For more information or to purchase tickets by phone\, contact Nancy Moore at the Garden at 918-289-0330 or email Nancy@tulsabotanic.org. \n \n \n  \n \n  \n 
URL:https://www.tulsabotanic.org/event/beaujolais-et-lumiere/
ATTACH;FMTTYPE=image/jpeg:https://www.tulsabotanic.org/wp-content/uploads/2022/05/featured-default-image_0-100.jpg
END:VEVENT
BEGIN:VEVENT
DTSTART;TZID=America/Chicago:20211121T120000
DTEND;TZID=America/Chicago:20211121T150000
DTSTAMP:20260421T064714
CREATED:20211019T191305Z
LAST-MODIFIED:20211019T191305Z
UID:2015-1637496000-1637506800@www.tulsabotanic.org
SUMMARY:Daytime Admission - Closing Early
DESCRIPTION:Please Note: We are closing early at 3pm on Nov. 21 for a private event. \nHOURS: Starting Nov. 1\, Garden will be open Tuesday-Sunday\, 12 – 5 p.m\, in November\, December\, January and February.  Please Note: Garden will be closed during the day on any date that Botanic Garden of Lights is scheduled. \nTICKETS: Advance tickets via online purchase are required.  Admission is FREE for Garden members;  $8 for ages 16+\, $4 for ages 3-15. Children 2 and under are free. \nJoin as a member or renew your membership for free admission and more! \n \nNeed help?  Watch short Buying Tickets video. \n \nMEMBERS – you MUST Login to see member (no-cost) tickets.  Watch Member Reservations tutorial  \nThe Botanic Garden has the following protocols and safety meaures in place: \n\nMasks are optional for visitors both inside the Visitor Center and outside. \nGuests are encouraged to practice social distancing from others not in your group while enjoying the Garden.\n\nSee all Garden visitor guidelines. \nDiscounted admission for SNAP/WIC participants is available: $1 for up to four people (ages 13+). Children 12 and under in group are free. Advance tickets are required and must be obtained by calling 918-289-0330. EBT card and photo ID required at check-in.
URL:https://www.tulsabotanic.org/event/daytime-admission-closing-early/
ATTACH;FMTTYPE=image/jpeg:https://www.tulsabotanic.org/wp-content/uploads/2022/05/featured-default-image_0-83.jpg
END:VEVENT
BEGIN:VEVENT
DTSTART;TZID=America/Chicago:20211125T000000
DTEND;TZID=America/Chicago:20211125T000000
DTSTAMP:20260421T064714
CREATED:20211005T015956Z
LAST-MODIFIED:20211005T015956Z
UID:2043-1637798400-1637798400@www.tulsabotanic.org
SUMMARY:Garden Closed
DESCRIPTION:Tulsa Botanic Garden will be closed on Thursday\, November 25\, 2021 for Thanksgiving.
URL:https://www.tulsabotanic.org/event/garden-closed-12/
ATTACH;FMTTYPE=image/jpeg:https://www.tulsabotanic.org/wp-content/uploads/2022/05/featured-default-image_0-95.jpg
END:VEVENT
BEGIN:VEVENT
DTSTART;TZID=America/Chicago:20211130T120000
DTEND;TZID=America/Chicago:20211130T170000
DTSTAMP:20260421T064714
CREATED:20211019T191503Z
LAST-MODIFIED:20211019T191503Z
UID:2011-1638273600-1638291600@www.tulsabotanic.org
SUMMARY:Daytime Admission - Adv. Tickets
DESCRIPTION:HOURS: Starting Nov. 1\, Garden will be open Tuesday-Sunday\, 12 – 5 p.m\, in November\, December\, January and February.  Please Note: Garden will be closed during the day on any date that Botanic Garden of Lights is scheduled. \nTICKETS: Advance tickets via online purchase are required.  Admission is FREE for Garden members;  $8 for ages 16+\, $4 for ages 3-155. Children 2 and under are free. \nJoin as a member or renew your membership for free admission and more! \n \nNeed help?  Watch short Buying Tickets video. \n \nMEMBERS – you MUST Login to see member (no-cost) tickets.  Watch Member Reservations tutorial  \nThe Botanic Garden has the following protocols and safety meaures in place: \n\nMasks are optional for visitors both inside the Visitor Center and outside. \nGuests are encouraged to practice social distancing from others not in your group while enjoying the Garden.\n\nSee all Garden visitor guidelines. \nDiscounted admission for SNAP/WIC participants is available: $1 for up to four people (ages 13+). Children 12 and under in group are free. Advance tickets are required and must be obtained by calling 918-289-0330. EBT card and photo ID required at check-in.
URL:https://www.tulsabotanic.org/event/daytime-admission-adv-tickets-2/
ATTACH;FMTTYPE=image/jpeg:https://www.tulsabotanic.org/wp-content/uploads/2022/05/featured-default-image_0-81.jpg
END:VEVENT
END:VCALENDAR