BEGIN:VCALENDAR
VERSION:2.0
PRODID:-//Tulsa Botanic Garden - ECPv6.10.1.1//NONSGML v1.0//EN
CALSCALE:GREGORIAN
METHOD:PUBLISH
X-ORIGINAL-URL:https://www.tulsabotanic.org
X-WR-CALDESC:Events for Tulsa Botanic Garden
REFRESH-INTERVAL;VALUE=DURATION:PT1H
X-Robots-Tag:noindex
X-PUBLISHED-TTL:PT1H
BEGIN:VTIMEZONE
TZID:America/Chicago
BEGIN:DAYLIGHT
TZOFFSETFROM:-0600
TZOFFSETTO:-0500
TZNAME:CDT
DTSTART:20210314T080000
END:DAYLIGHT
BEGIN:STANDARD
TZOFFSETFROM:-0500
TZOFFSETTO:-0600
TZNAME:CST
DTSTART:20211107T070000
END:STANDARD
END:VTIMEZONE
BEGIN:VEVENT
DTSTART;TZID=America/Chicago:20210606T090000
DTEND;TZID=America/Chicago:20210606T170000
DTSTAMP:20260421T084643
CREATED:20210528T184833Z
LAST-MODIFIED:20210528T184833Z
UID:2131-1622970000-1622998800@www.tulsabotanic.org
SUMMARY:Daytime Admission-Adv. Tickets
DESCRIPTION:SPECIAL ACTIVITIES on Sunday\, June 6:  This is a Dog Day.  Dogs are permitted and require an admission ticket.  Please read more information regarding our Dog Days. \nKiss My Cook Food Truck will be onsite for brunch from 10 a.m. to 2 p.m.  A bar will have brunch drinks including mimosas\, margaritas and more.  Pupsicles will also be available for sale. \nHOURS: Garden is open Tuesday-Friday\, 10 a.m. – 5 p.m\, and Saturday – Sunday\, 9 a.m. – 5 p.m. TICKETS: Advance tickets via online purchase are required.  Admission is FREE for Garden members;  $8 for ages 13+\, $4 for ages 3-12. Children 2 and under are free. \nDiscounted admission for SNAP/WIC participants is available: $1 for up to four people (ages 13+). Children 12 and under in group are free. Advance tickets are required and must be obtained by calling 918-289-0330. EBT card and photo ID required at check-in. \nJoin as a member or renew your membership for free admission and more! \n \n *Choose entry time. Your visit can last as long as you like\, until closing. \n \nNeed help? Watch our tutorials for Member Reservations or Buying Tickets.Members – you MUST Login to see member (no-cost) tickets. See tutorial for more information.   \nThe health and safety of our guests and staff remain our top priority. In line with CDC (Center for Disease Control and Prevention)\, and state and local health department guidelines regarding COVID-19\, the Botanic Garden has the following protocols and safety meaures in place: \n\nGarden staff members are wearing masks indoors and guests are required to wear masks/face coverings inside the Visitor Center and restrooms.\nReminders to practice social distancing while enjoying the Garden’s beauty are placed in strategic areas.\nHand sanitizer is available at stations in Garden areas.\nPlexiglas screens are installed at welcome desks in the Visitor Center.\n\nSee all Garden visitor guidelines. \nIf you are not feeling well\, please consider visiting the Botanic Garden at another time. Thank you for supporting the Garden! 
URL:https://www.tulsabotanic.org/event/daytime-admission-adv-tickets-25/
ATTACH;FMTTYPE=image/jpeg:https://www.tulsabotanic.org/wp-content/uploads/2022/05/featured-default-image_0-116.jpg
END:VEVENT
BEGIN:VEVENT
DTSTART;TZID=America/Chicago:20210612T100000
DTEND;TZID=America/Chicago:20210612T120000
DTSTAMP:20260421T084643
CREATED:20210528T195229Z
LAST-MODIFIED:20210528T195229Z
UID:2129-1623492000-1623499200@www.tulsabotanic.org
SUMMARY:Supercali. Saturdays: Let's Fly a Kite!
DESCRIPTION:Supercalifragilisticexpialidocious Saturdays with The Magical Nanny are the second Saturday in June\, July and August from 10 a.m. to noon.  \nSaturday\, June 12: Let’s Fly a Kite! \nThe Magical Nanny will be delighted to guide kite assembly\, decoration and flight for children of all ages! Advance general admission encouraged\, as there will be a limited number of free kites included with admission. Guests are welcome to bring their own kites. There will also be sing-alongs and story time.  This is a come-and-go event\, free with general admission tickets – purchased in advance. \nAdmission to the Botanic Garden is FREE for Garden members. $8 for ages 13+\, $4 for ages 3-12. Children 2 and under are free\, but do need a ticket.   \n \nUpcoming dates:  \nSaturday\, July 10:  Treehouse Tea Party (special ticket will be required)  \nSaturday\, August 14: Chalk Drawings  \n \n 
URL:https://www.tulsabotanic.org/event/supercali-saturdays-lets-fly-a-kite/
ATTACH;FMTTYPE=image/jpeg:https://www.tulsabotanic.org/wp-content/uploads/2022/05/featured-default-image_0-115.jpg
END:VEVENT
BEGIN:VEVENT
DTSTART;TZID=America/Chicago:20210620T090000
DTEND;TZID=America/Chicago:20210620T170000
DTSTAMP:20260421T084643
CREATED:20210603T172415Z
LAST-MODIFIED:20210603T172415Z
UID:2121-1624179600-1624208400@www.tulsabotanic.org
SUMMARY:Father's Day Scavenger Hunt
DESCRIPTION:Bring the family out and test your observations skills as you explore the Garden! Pick up a scavenger hunt in the Visitor Center for things to find as you stroll.  Free with general admission. \nAdmission is FREE for Garden members; $8 for ages 13+\, $4 for ages 3-12. Children 2 and under are free\, but do need a ticket. 
URL:https://www.tulsabotanic.org/event/fathers-day-scavenger-hunt/
ATTACH;FMTTYPE=image/jpeg:https://www.tulsabotanic.org/wp-content/uploads/2022/05/featured-default-image_0-112.jpg
END:VEVENT
END:VCALENDAR