BEGIN:VCALENDAR
VERSION:2.0
PRODID:-//Tulsa Botanic Garden - ECPv6.10.1.1//NONSGML v1.0//EN
CALSCALE:GREGORIAN
METHOD:PUBLISH
X-WR-CALNAME:Tulsa Botanic Garden
X-ORIGINAL-URL:https://www.tulsabotanic.org
X-WR-CALDESC:Events for Tulsa Botanic Garden
REFRESH-INTERVAL;VALUE=DURATION:PT1H
X-Robots-Tag:noindex
X-PUBLISHED-TTL:PT1H
BEGIN:VTIMEZONE
TZID:America/Chicago
BEGIN:DAYLIGHT
TZOFFSETFROM:-0600
TZOFFSETTO:-0500
TZNAME:CDT
DTSTART:20210314T080000
END:DAYLIGHT
BEGIN:STANDARD
TZOFFSETFROM:-0500
TZOFFSETTO:-0600
TZNAME:CST
DTSTART:20211107T070000
END:STANDARD
END:VTIMEZONE
BEGIN:VEVENT
DTSTART;TZID=America/Chicago:20210512T100000
DTEND;TZID=America/Chicago:20210514T170000
DTSTAMP:20260421T070410
CREATED:20210421T180511Z
LAST-MODIFIED:20210421T180511Z
UID:2159-1620813600-1621011600@www.tulsabotanic.org
SUMMARY:Members-First Spring Plant Sale
DESCRIPTION:Online Sale Only (no in-person sale)  \nGet some great plants for your home or garden and support the Tulsa Botanic Garden!  \nClick here for Plant Sale list. \nMembers: you must log in to see plants available\, shop and receive your discount. \n** Remember to select your pick up date/time slot and add to your cart before making your purchase. ** \n     \n     \n \nClick here to view photo album. \n  \nMEMBERS-FIRST SALE: May 12\, 10 a.m. to May 14\, 5 p.m. \nGarden members get to shop first as a benefit of membership. Join as a member to get first chance at our sale!  Note: If you join/renew as a member\, you will need to finish that transaction and log out and back in for the system to recognize your membership.  \nSALE OPENS TO PUBLIC: Friday\, May 14 5:01 p.m. to Sunday\, May 16\, 11:59 p.m. \n  \nPLANT SALE PICK UP DATES: May 20-23\, 10 a.m. – 3 p.m. Before you complete your purchase\, please remember to select your pick up date and time slot and add to your “Cart”.  \n  \n Learn more about plants in the sale with our videos below.  \n \n \n  \n 
URL:https://www.tulsabotanic.org/event/members-first-spring-plant-sale/
ATTACH;FMTTYPE=image/jpeg:https://www.tulsabotanic.org/wp-content/uploads/2022/05/PlantSalefeature.jpg
END:VEVENT
BEGIN:VEVENT
DTSTART;TZID=America/Chicago:20210514T170000
DTEND;TZID=America/Chicago:20210516T234500
DTSTAMP:20260421T070410
CREATED:20210421T180210Z
LAST-MODIFIED:20210421T180210Z
UID:2161-1621011600-1621208700@www.tulsabotanic.org
SUMMARY:Spring Plant Sale
DESCRIPTION:Online Sale Only (no in person shopping option) \nGet some great plants for your home or garden and support the Tulsa Botanic Garden!  \nClick here for the Plant Sale List (pdf file with links) \nMEMBERS\, you will need to Log in to see discounted prices. \n**Please remember to select and Pick Up Date and Time and add to your “Cart” before completing your purchase.  If you forgot to select a pick-up time before completing your purchase\, email support@tulsabotanic.org with your Order # from confirmation email and desired pick up day and time. \nSale opens to non-members on May 14\, 5:01 p.m. Sales ends Sunday\, May 16\, 11:59 p.m. \nUse links below (or in Plant list link above) to go to plants in sale by categoryl listing.  \n      \n     \n \n Click here to view photo album. \n \nMEMBERS-FIRST SALE: May 12\, 10 a.m. to Friday\, May 14\, 5 p.m. \nGarden members get to shop first as a benefit of membership and receive a discount on purchases.  Join as a member! \nSALE OPENS TO PUBLIC: Friday\, May 14\, 5:01 p.m. – Sunday\, May 16\, 11:59 p.m.  \nPLANT SALE PICK UP DATES: May 20-23\, 10 a.m. – 3 p.m. ( You must select a date and time slot and add to your “Cart” before completing your online purchase) \n Learn more about some of the plants in the sale from our videos below.  \n \n \n 
URL:https://www.tulsabotanic.org/event/spring-plant-sale/
ATTACH;FMTTYPE=image/jpeg:https://www.tulsabotanic.org/wp-content/uploads/2022/05/PlantSalefeature_0.jpg
END:VEVENT
BEGIN:VEVENT
DTSTART;TZID=America/Chicago:20210531T100000
DTEND;TZID=America/Chicago:20210531T170000
DTSTAMP:20260421T070410
CREATED:20210506T020802Z
LAST-MODIFIED:20210506T020802Z
UID:2157-1622455200-1622480400@www.tulsabotanic.org
SUMMARY:Open for Memorial Day - Free Admission for Military/Veterans
DESCRIPTION:The Botanic Garden will be open on Monday\, May 31 from 10 a.m. to 5 p.m. to welcome visitors on Memorial Day.   The first 250 visitors receive a small American flag. \nFor Memorial Day\, veterans and active military will get FREE admission and their family members can receive half price admission (with valid ID). Purchase online and bring tickets and valid ID upon check in. TICKETS: Advance tickets via online purchase are required.  Admission is FREE for Garden members;  $8 for ages 13+\, $4 for ages 3-12. Children 2 and under are free. \nDiscounted admission for SNAP/WIC participants is available: $1 for up to four people (ages 13+). Children 12 and under in group are free. Advance tickets are required and must be obtained by calling 918-289-0330. EBT card and photo ID required at check-in. \nJoin as a member or renew your membership for free admission and more! \n \n *Choose entry time. Your visit can last as long as you like\, until closing. \n \nNeed help? Watch our tutorials for Member Reservations or Buying Tickets.Members – you MUST Login to see member (no-cost) tickets. See tutorial for more information.   \nThe health and safety of our guests and staff remain our top priority. In line with CDC (Center for Disease Control and Prevention)\, and state and local health department guidelines regarding COVID-19\, the Botanic Garden has the following protocols and safety meaures in place: \n\nGarden staff members are wearing masks and guests are strongly encouraged to wear masks/face coverings\, especially inside the Visitor Center and restroom where physical distancing of 6 ft. is not possible.\nReminders to practice social distancing while enjoying the Garden’s beauty are placed in strategic areas.\nHand sanitizer is available at stations in Garden areas.\nPlexiglas screens are installed at welcome desks in the Visitor Center.\nOnly credit cards are being accepted – no cash transactions at this time.\nHand dryers in restrooms are turned off. Paper towels will be available.\n\n  \nSee all Garden visitor guidelines. \nIf you are not feeling well\, please consider visiting the Botanic Garden at another time. Thank you for supporting the Garden! 
URL:https://www.tulsabotanic.org/event/open-for-memorial-day-free-admission-for-military-veterans/
ATTACH;FMTTYPE=image/jpeg:https://www.tulsabotanic.org/wp-content/uploads/2022/05/featured-default-image_0-123.jpg
END:VEVENT
END:VCALENDAR