BEGIN:VCALENDAR
VERSION:2.0
PRODID:-//Tulsa Botanic Garden - ECPv6.10.1.1//NONSGML v1.0//EN
CALSCALE:GREGORIAN
METHOD:PUBLISH
X-WR-CALNAME:Tulsa Botanic Garden
X-ORIGINAL-URL:https://www.tulsabotanic.org
X-WR-CALDESC:Events for Tulsa Botanic Garden
REFRESH-INTERVAL;VALUE=DURATION:PT1H
X-Robots-Tag:noindex
X-PUBLISHED-TTL:PT1H
BEGIN:VTIMEZONE
TZID:America/Chicago
BEGIN:DAYLIGHT
TZOFFSETFROM:-0600
TZOFFSETTO:-0500
TZNAME:CDT
DTSTART:20200308T080000
END:DAYLIGHT
BEGIN:STANDARD
TZOFFSETFROM:-0500
TZOFFSETTO:-0600
TZNAME:CST
DTSTART:20201101T070000
END:STANDARD
END:VTIMEZONE
BEGIN:VEVENT
DTSTART;TZID=America/Chicago:20201115T130000
DTEND;TZID=America/Chicago:20201115T160000
DTSTAMP:20260421T113050
CREATED:20201016T041124Z
LAST-MODIFIED:20201016T041124Z
UID:2441-1605445200-1605456000@www.tulsabotanic.org
SUMMARY:"I Love to Write Day"
DESCRIPTION:I Love to Write Day was founded by author John Riddle\, a non-fiction and self-help writer\, to get kids writing in schools and encourage adults to rekindle an old dream. Visit the Garden on November 15 between 1 and 4 p.m. for your own “I Love to Write” experience (writing prompts and materials provided). If you’re a NaNoWriMo (National Novel Writing Month) author\, join us for outdoor inspiration and up your word count surrounded by nature. Free with admission.  \nThe Garden is currently requiring advance tickets with timed entry. Purchase online.  Garden admission is FREE for Garden members; $8 for ages 13+\, $4 for ages 3-12. Children 2 and under are free.
URL:https://www.tulsabotanic.org/event/i-love-to-write-day/
ATTACH;FMTTYPE=image/jpeg:https://www.tulsabotanic.org/wp-content/uploads/2022/05/featured-default-image_0-209.jpg
END:VEVENT
BEGIN:VEVENT
DTSTART;TZID=America/Chicago:20201117T190000
DTEND;TZID=America/Chicago:20201117T220000
DTSTAMP:20260421T113050
CREATED:20201016T031122Z
LAST-MODIFIED:20201016T031122Z
UID:2443-1605639600-1605650400@www.tulsabotanic.org
SUMMARY:Star Night: Meteors
DESCRIPTION:Enjoy the Garden at night! Bring your own chairs or blanket to spread out on the lawn and look up at the night sky. A telescope will be set up at the top of the Tandy Floral Terraces\, with Garden staff on hand to facilitate viewings of stellar\, planetary and deep sky objects.  \nOnly red flashlights are encouraged\, to improve our night vision. We are limiting the number of tickets for this event\, so please register soon if you’re interested in coming. If the weather forces us to cancel this event\, we will offer an alternate date or a refund.  Any announcement regarding cancellation will be made by noon on the event day. \nThe Leonid meteor shower will peak around Nov. 17. On this night\, the moon will be 5% full\, providing darker skies for celestial viewing. \nTICKETS for ages 3 and up are $10 per person for Garden members and $15 per person for non-members.  No tickets will be sold at the door.  \nSAFETY: Please wear a mask when inside the visitor center and restrooms and anytime outside when physically distancing from others is not possible.  \nTHANK YOU FOR YOUR INTEREST – THIS EVENT IS SOLD OUT.
URL:https://www.tulsabotanic.org/event/star-night-meteors/
ATTACH;FMTTYPE=image/jpeg:https://www.tulsabotanic.org/wp-content/uploads/2022/05/featured-default-image_0-210.jpg
END:VEVENT
BEGIN:VEVENT
DTSTART;TZID=America/Chicago:20201126T000000
DTEND;TZID=America/Chicago:20201126T000000
DTSTAMP:20260421T113050
CREATED:20201015T022013Z
LAST-MODIFIED:20201015T022013Z
UID:2447-1606348800-1606348800@www.tulsabotanic.org
SUMMARY:Closed - Thanksgiving
DESCRIPTION:The Garden will be closed on Thursday\, Nov. 26 for Thanksgiving. 
URL:https://www.tulsabotanic.org/event/closed-thanksgiving/
ATTACH;FMTTYPE=image/jpeg:https://www.tulsabotanic.org/wp-content/uploads/2022/05/featured-default-image_0-212.jpg
END:VEVENT
END:VCALENDAR