BEGIN:VCALENDAR
VERSION:2.0
PRODID:-//Tulsa Botanic Garden - ECPv6.10.1.1//NONSGML v1.0//EN
CALSCALE:GREGORIAN
METHOD:PUBLISH
X-WR-CALNAME:Tulsa Botanic Garden
X-ORIGINAL-URL:https://www.tulsabotanic.org
X-WR-CALDESC:Events for Tulsa Botanic Garden
REFRESH-INTERVAL;VALUE=DURATION:PT1H
X-Robots-Tag:noindex
X-PUBLISHED-TTL:PT1H
BEGIN:VTIMEZONE
TZID:America/Chicago
BEGIN:DAYLIGHT
TZOFFSETFROM:-0600
TZOFFSETTO:-0500
TZNAME:CDT
DTSTART:20220313T080000
END:DAYLIGHT
BEGIN:STANDARD
TZOFFSETFROM:-0500
TZOFFSETTO:-0600
TZNAME:CST
DTSTART:20221106T070000
END:STANDARD
END:VTIMEZONE
BEGIN:VEVENT
DTSTART;TZID=America/Chicago:20221018T183000
DTEND;TZID=America/Chicago:20221018T203000
DTSTAMP:20260421T051456
CREATED:20220912T161048Z
LAST-MODIFIED:20221018T160046Z
UID:5935-1666117800-1666125000@www.tulsabotanic.org
SUMMARY:Stargazing with the Astronomy Club of Tulsa
DESCRIPTION:Enjoy the Botanic Garden’s broad skies at night! Come out for a sunset stroll in the Garden before the skies darken for our stargazing. Telescopes will be set out at the bottom of the Tandy Floral Terraces and members of the Astronomy Club of Tulsa will be sharing their knowledge of stellar\, planetary and deep sky objects. Skies will be dark about 7:20 for viewing Jupiter and Saturn as they rise in the east. Doors and our Botanic Bar open at 6 p.m. \n  \nDay-of: Online ticket sales will close at 5 p.m. but tickets will be available at the door. \nTICKETS for ages 3 and up are $15 per person for members and $20 per person for non-members.
URL:https://www.tulsabotanic.org/event/stargazing-with-the-astronomy-club-of-tulsa/
CATEGORIES:Adult Programs,Family Programs
ATTACH;FMTTYPE=image/jpeg:https://www.tulsabotanic.org/wp-content/uploads/2022/09/IMG_0220.jpg
END:VEVENT
END:VCALENDAR