BEGIN:VCALENDAR
VERSION:2.0
PRODID:-//Tulsa Botanic Garden - ECPv6.10.1.1//NONSGML v1.0//EN
CALSCALE:GREGORIAN
METHOD:PUBLISH
X-ORIGINAL-URL:https://www.tulsabotanic.org
X-WR-CALDESC:Events for Tulsa Botanic Garden
REFRESH-INTERVAL;VALUE=DURATION:PT1H
X-Robots-Tag:noindex
X-PUBLISHED-TTL:PT1H
BEGIN:VTIMEZONE
TZID:America/Chicago
BEGIN:DAYLIGHT
TZOFFSETFROM:-0600
TZOFFSETTO:-0500
TZNAME:CDT
DTSTART:20240310T080000
END:DAYLIGHT
BEGIN:STANDARD
TZOFFSETFROM:-0500
TZOFFSETTO:-0600
TZNAME:CST
DTSTART:20241103T070000
END:STANDARD
END:VTIMEZONE
BEGIN:VEVENT
DTSTART;TZID=America/Chicago:20240716T110000
DTEND;TZID=America/Chicago:20240716T120000
DTSTAMP:20260422T193822
CREATED:20240701T233813Z
LAST-MODIFIED:20240712T184454Z
UID:13700-1721127600-1721131200@www.tulsabotanic.org
SUMMARY:Tree Fort Storytime: Butterflies
DESCRIPTION:Join us for a butterfly-themed storytime followed by a coloring activity! We’ll meet under the shade of the oaks in the Carter/Sherry Families Tree Fort in our Children’s Discovery Garden.   \nThese storytimes are part of National Summer Learning Week\, July 15-19\, 2024\, a celebration dedicated to elevating the importance of keeping kids learning\, safe\, and healthy every summer\, and ensuring they return to school ready to succeed in the year.  \nFree with Garden admission.  \n \n  \nUpcoming Family Events: \nThursday\, July 18: Tree Fort Storytime \nSaturday\, July 20: Tree Fort Storytime \nWednesday\, July 24: Reading Morning with TCCL Bookmobile \n 
URL:https://www.tulsabotanic.org/event/tree-fort-storytime-butterflies/
CATEGORIES:Family Programs,Paid Programs
ATTACH;FMTTYPE=image/jpeg:https://www.tulsabotanic.org/wp-content/uploads/2022/07/storytime.jpeg
END:VEVENT
BEGIN:VEVENT
DTSTART;TZID=America/Chicago:20240718T110000
DTEND;TZID=America/Chicago:20240718T120000
DTSTAMP:20260422T193822
CREATED:20240701T234422Z
LAST-MODIFIED:20240712T184540Z
UID:13702-1721300400-1721304000@www.tulsabotanic.org
SUMMARY:Tree Fort Storytime: Bees
DESCRIPTION:Join us for a bee-themed storytime followed by a coloring activity! We’ll meet under the shade of the oaks in the Carter/Sherry Families Tree Fort in our Children’s Discovery Garden.   \nThese storytimes are part of National Summer Learning Week\, July 15-19\, 2024\, a celebration dedicated to elevating the importance of keeping kids learning\, safe\, and healthy every summer\, and ensuring they return to school ready to succeed in the year.  \nFree with Garden admission.  \n \nUpcoming Family Events: \nSaturday\, July 20: Tree Fort Storytime \nWednesday\, July 24: Reading Morning with TCCL Bookmobile
URL:https://www.tulsabotanic.org/event/tree-fort-storytime-bees/
CATEGORIES:Family Programs,Paid Programs
ATTACH;FMTTYPE=image/jpeg:https://www.tulsabotanic.org/wp-content/uploads/2022/07/storytime.jpeg
END:VEVENT
BEGIN:VEVENT
DTSTART;TZID=America/Chicago:20240720T110000
DTEND;TZID=America/Chicago:20240720T120000
DTSTAMP:20260422T193822
CREATED:20240701T234847Z
LAST-MODIFIED:20240712T184700Z
UID:13704-1721473200-1721476800@www.tulsabotanic.org
SUMMARY:Tree Fort Storytime
DESCRIPTION:Join us for a nature-themed storytime followed by a coloring activity! We’ll meet under the shade of the oaks in the Carter/Sherry Families Tree Fort in our Children’s Discovery Garden.   \nFree with Garden admission.  \n \nUpcoming Family Events: \nWednesday\, July 24: Reading Morning with TCCL Bookmobile \nThese storytimes are part of National Summer Learning Week\, July 15-19\, 2024\, a celebration dedicated to elevating the importance of keeping kids learning\, safe\, and healthy every summer\, and ensuring they return to school ready to succeed in the year. 
URL:https://www.tulsabotanic.org/event/tree-fort-storytime-07-20/
CATEGORIES:Family Programs,Paid Programs
ATTACH;FMTTYPE=image/jpeg:https://www.tulsabotanic.org/wp-content/uploads/2022/07/storytime.jpeg
END:VEVENT
BEGIN:VEVENT
DTSTART;TZID=America/Chicago:20240724T100000
DTEND;TZID=America/Chicago:20240724T120000
DTSTAMP:20260422T193822
CREATED:20240621T210500Z
LAST-MODIFIED:20240712T184629Z
UID:13643-1721815200-1721822400@www.tulsabotanic.org
SUMMARY:Reading Morning with TCCL Bookmobile
DESCRIPTION:Come celebrate Tulsa Botanic Garden’s new Story Walk feature in our Children’s Garden! Tulsa City-County Library’s Bookmobile will be on site from 10am-12pm.Bring a picnic blanket and find a place to relax with a good book – reading is encouraged throughout the Garden all day! \nThe Bookmobile is a fully functional library on wheels! It carries a variety of the latest materials for all ages\, including regular and large print books\, audiobooks\, CDs and DVDs–and it’s all free! Visit and browse materials to check out.  Guests will be able to get a library card and check in/out books during the event. Books may be returned to any TCCL Library after the event. 
URL:https://www.tulsabotanic.org/event/reading-morning-with-tccl-bookmobile/
CATEGORIES:Family Programs,Paid Programs
ATTACH;FMTTYPE=image/jpeg:https://www.tulsabotanic.org/wp-content/uploads/2024/06/bookmobile1web.jpg
END:VEVENT
END:VCALENDAR