BEGIN:VCALENDAR
VERSION:2.0
PRODID:-//Tulsa Botanic Garden - ECPv6.10.1.1//NONSGML v1.0//EN
CALSCALE:GREGORIAN
METHOD:PUBLISH
X-ORIGINAL-URL:https://www.tulsabotanic.org
X-WR-CALDESC:Events for Tulsa Botanic Garden
REFRESH-INTERVAL;VALUE=DURATION:PT1H
X-Robots-Tag:noindex
X-PUBLISHED-TTL:PT1H
BEGIN:VTIMEZONE
TZID:America/Chicago
BEGIN:DAYLIGHT
TZOFFSETFROM:-0600
TZOFFSETTO:-0500
TZNAME:CDT
DTSTART:20230312T080000
END:DAYLIGHT
BEGIN:STANDARD
TZOFFSETFROM:-0500
TZOFFSETTO:-0600
TZNAME:CST
DTSTART:20231105T070000
END:STANDARD
END:VTIMEZONE
BEGIN:VEVENT
DTSTART;TZID=America/Chicago:20231005T180000
DTEND;TZID=America/Chicago:20231005T200000
DTSTAMP:20260422T055531
CREATED:20230923T013019Z
LAST-MODIFIED:20231004T160958Z
UID:11073-1696528800-1696536000@www.tulsabotanic.org
SUMMARY:Bands & Blooms with Stephanie Oliver
DESCRIPTION:More hours for flowers – our Bands & Blooms are a great for a date night\, girls’ night out\, meet-up with friends or a family outing!  Bring chairs or a blanket\, if you like\, to enjoy the live music from Stephanie Oliver and fantastic views from the lawn. Purchase food (gourmet hot dogs\, nachos\, snacks) from our Garden of Eatin’ concession stand.  Our Botanic Bar has beer\, wine and cocktails to sip as you stroll through our lush gardens!   \nYou can shop and purchase pumpkins\, take fun selfies at photo stops\, explore the hay maze\, see all the creative scarecrow entries – and vote for your favorite!  \nFood and drink options are available at 6 p.m. Music is 6-8 p.m.  \nAdmission to Bands & Blooms is:  FREE for Garden members. Regular admission for non-members. \nAdvance tickets recommended: $8 for ages 16+\, $4 for ages 3-15. Day of tickets are $10/$5 respectively. \n \nBands & Blooms will be every Thursday\, September 21 – October 26\, 6-8 p.m. \nGoing on during Bands & Blooms: BOOtanical\nThrow on your favorite costume and join us Thursday evenings in October\, 6-8 p.m.\, as the Children’s Discovery Garden transforms into an enchanting garden for a BOOtanical Experience!  Families can stroll through the lighted pathways and past non-spooky decorations to visit eleven BOOtanical booths including ghost origami\, pictures with a costumed character\, maggot painting\, and games!   Additional ticket required to participate in BOOtanical experience. More information here!
URL:https://www.tulsabotanic.org/event/bands-blooms-oct-5/
CATEGORIES:Family Programs
ATTACH;FMTTYPE=image/jpeg:https://www.tulsabotanic.org/wp-content/uploads/2023/09/bandsandblooms-aibg.jpg
END:VEVENT
BEGIN:VEVENT
DTSTART;TZID=America/Chicago:20231012T180000
DTEND;TZID=America/Chicago:20231012T200000
DTSTAMP:20260422T055531
CREATED:20230925T201905Z
LAST-MODIFIED:20231009T190001Z
UID:11081-1697133600-1697140800@www.tulsabotanic.org
SUMMARY:Bands & Blooms with Booker Gillespie Trio
DESCRIPTION:More hours for flowers – our Bands & Blooms are a great for a date night\, girls’ night out\, meet-up with friends or a family outing!  Bring chairs or a blanket\, if you like\, to enjoy the live music from local artists (TBA -check back for details) and fantastic views from the lawn.   Purchase food (gourmet hot dogs\, nachos\, snacks) from our Garden of Eatin’ concession stand.  Our Botanic Bar has beer\, wine and cocktails to sip as you stroll through our lush gardens!   \nBooker Gillespie Trio will be playing great jazz sounds and songs.  \nYou can shop and purchase pumpkins\, take fun selfies at photo stops\, explore the hay maze\, see all the creative scarecrow entries – and vote for your favorite!  \nFood and drink options are available at 6 p.m. Music is 6-8 p.m.  \nAdmission to Bands & Blooms is:  FREE for Garden members. Regular admission for non-members. \nAdvance tickets recommended: $8 for ages 16+\, $4 for ages 3-15. Day of tickets are $10/$5 respectively. \n \nBands & Blooms will be every Thursday\, September 21 – October 26\, 6-8 p.m. \nGoing on during Bands & Blooms: BOOtanical\nThrow on your favorite costume and join us Thursday evenings in October\, 6-8 p.m.\, as the Children’s Discovery Garden transforms into an enchanting garden for a BOOtanical Experience!  Families can stroll through the lighted pathways and past non-spooky decorations to visit eleven BOOtanical booths including ghost origami\, pictures with a costumed character\, maggot painting\, and games!   Additional ticket required to participate in BOOtanical experience. More information here!
URL:https://www.tulsabotanic.org/event/bands-blooms-3/
CATEGORIES:Family Programs
ATTACH;FMTTYPE=image/jpeg:https://www.tulsabotanic.org/wp-content/uploads/2023/09/bookergillespietrio2-scaled.jpg
END:VEVENT
BEGIN:VEVENT
DTSTART;TZID=America/Chicago:20231012T180000
DTEND;TZID=America/Chicago:20231012T200000
DTSTAMP:20260422T055531
CREATED:20230925T215945Z
LAST-MODIFIED:20230925T215945Z
UID:11094-1697133600-1697140800@www.tulsabotanic.org
SUMMARY:BOOtanical
DESCRIPTION:BOOtanical is sponsored by Ferguson Subaru! \nThrow on your favorite costume and join us Thursday evenings in October\, 6-8 p.m.\, as the Children’s Discovery Garden transforms into an enchanting garden for a BOOtanical Experience!  Families can stroll through the lighted pathways and past non-spooky decorations to visit eleven BOOtanical booths including ghost origami\, pictures with a costumed character\, maggot painting\, and games!    \nWith a ticket to BOOtanical\, each child gets a wristband and bag for carrying their crafts and prizes.  Each child participating in BOOtanical Experience will need a BOOtanical ticket in addition to a regular admission ticket.    \nBOOtanical tickets purchased in advance are $8/participating child for Garden members\, $10 for non-member children.  Same day tickets are $10/$12 per participating child.  \n(Garden admission tickets must be purchased in addition to BOOtanical tickets.  There is no additional charge for adults accompanying children other then regular admission.)  \n \nOct. 5: Character visit: Maleficent  \nOct. 12: Character visit: Peter Pan & Tinker Bell  \nOct. 19: Character visit: Jack & Sally from The Nightmare Before Christmas   \nOct. 26: Character visit: Sanderson Sisters from Hocus Pocus   \nBOOtanical Experiences are rain or shine! Come dressed for weather.  If needed\, we will move activities inside our Mabee Grange building. Tickets are non-refundable.   \nBOOtanical is sponsored by \n \n 
URL:https://www.tulsabotanic.org/event/bootanical-2/
CATEGORIES:Family Programs
ATTACH;FMTTYPE=image/jpeg:https://www.tulsabotanic.org/wp-content/uploads/2023/09/IMG_8852.jpg
END:VEVENT
BEGIN:VEVENT
DTSTART;TZID=America/Chicago:20231019T180000
DTEND;TZID=America/Chicago:20231019T200000
DTSTAMP:20260422T055531
CREATED:20230925T201932Z
LAST-MODIFIED:20231004T161103Z
UID:11083-1697738400-1697745600@www.tulsabotanic.org
SUMMARY:Bands & Blooms with Hot Toast Music Co
DESCRIPTION:More hours for flowers – our Bands & Blooms are a great for a date night\, girls’ night out\, meet-up with friends or a family outing!  Bring chairs or a blanket\, if you like\, to enjoy the live music from Hot Toast Music Co and fantastic views from the lawn.   Purchase food (gourmet hot dogs\, nachos\, snacks) from our Garden of Eatin’ concession stand.  Our Botanic Bar has beer\, wine and cocktails to sip as you stroll through our lush gardens!   \nYou can shop and purchase pumpkins\, take fun selfies at photo stops\, explore the hay maze\, see all the creative scarecrow entries – and vote for your favorite!  \nFood and drink options are available at 6 p.m. Music is 6-8 p.m.  \nAdmission to Bands & Blooms is:  FREE for Garden members. Regular admission for non-members. \nAdvance tickets recommended: $8 for ages 16+\, $4 for ages 3-15. Day of tickets are $10/$5 respectively. \n \nBands & Blooms will be every Thursday\, September 21 – October 26\, 6-8 p.m. \nGoing on during Bands & Blooms: BOOtanical\nThrow on your favorite costume and join us Thursday evenings in October\, 6-8 p.m.\, as the Children’s Discovery Garden transforms into an enchanting garden for a BOOtanical Experience!  Families can stroll through the lighted pathways and past non-spooky decorations to visit eleven BOOtanical booths including ghost origami\, pictures with a costumed character\, maggot painting\, and games!   Additional ticket required to participate in BOOtanical experience. More information here!
URL:https://www.tulsabotanic.org/event/bands-blooms-4/
CATEGORIES:Family Programs
ATTACH;FMTTYPE=image/jpeg:https://www.tulsabotanic.org/wp-content/uploads/2023/09/2AD48657-4138-4EDB-8E6E-9D2610126186.jpg
END:VEVENT
BEGIN:VEVENT
DTSTART;TZID=America/Chicago:20231019T180000
DTEND;TZID=America/Chicago:20231019T200000
DTSTAMP:20260422T055531
CREATED:20230925T220058Z
LAST-MODIFIED:20230925T220058Z
UID:11097-1697738400-1697745600@www.tulsabotanic.org
SUMMARY:BOOtanical
DESCRIPTION:BOOtanical is sponsored by Ferguson Subaru! \nThrow on your favorite costume and join us Thursday evenings in October\, 6-8 p.m.\, as the Children’s Discovery Garden transforms into an enchanting garden for a BOOtanical Experience!  Families can stroll through the lighted pathways and past non-spooky decorations to visit eleven BOOtanical booths including ghost origami\, pictures with a costumed character\, maggot painting\, and games!    \nWith a ticket to BOOtanical\, each child gets a wristband and bag for carrying their crafts and prizes.  Each child participating in BOOtanical Experience will need a BOOtanical ticket in addition to a regular admission ticket.    \nBOOtanical tickets purchased in advance are $8/participating child for Garden members\, $10 for non-member children.  Same day tickets are $10/$12 per participating child.  \n(Garden admission tickets must be purchased in addition to BOOtanical tickets.  There is no additional charge for adults accompanying children other then regular admission.)  \n \nOct. 5: Character visit: Maleficent  \nOct. 12: Character visit: Peter Pan & Tinker Bell  \nOct. 19: Character visit: Jack & Sally from The Nightmare Before Christmas   \nOct. 26: Character visit: Sanderson Sisters from Hocus Pocus   \nBOOtanical Experiences are rain or shine! Come dressed for weather.  If needed\, we will move activities inside our Mabee Grange building. Tickets are non-refundable.   \nBOOtanical is sponsored by \n \n 
URL:https://www.tulsabotanic.org/event/bootanical-3/
CATEGORIES:Family Programs
ATTACH;FMTTYPE=image/jpeg:https://www.tulsabotanic.org/wp-content/uploads/2023/09/IMG_8884.jpg
END:VEVENT
BEGIN:VEVENT
DTSTART;TZID=America/Chicago:20231026T180000
DTEND;TZID=America/Chicago:20231026T200000
DTSTAMP:20260422T055531
CREATED:20230925T202751Z
LAST-MODIFIED:20231004T161140Z
UID:11085-1698343200-1698350400@www.tulsabotanic.org
SUMMARY:Bands & Blooms: Steve Liddell Duo
DESCRIPTION:More hours for flowers – our Bands & Blooms are a great for a date night\, girls’ night out\, meet-up with friends or a family outing!  Bring chairs or a blanket\, if you like\, to enjoy the live music from Steve Liddell Duo and fantastic views from the lawn.   Purchase food (gourmet hot dogs\, nachos\, snacks) from our Garden of Eatin’ concession stand.  Our Botanic Bar has beer\, wine and cocktails to sip as you stroll through our lush gardens!   \nSteve Liddell is a singer/songwriter who has performed his brand of original music mixing Folk\, Roots Americana\, Reggae and Jazz from coast to coast\, Hawaii\, Latin America and Europe.\nLiddell has released two albums: Goodlove and Old Soles. \nYou can shop and purchase pumpkins\, take fun selfies at photo stops\, explore the hay maze\, see all the creative scarecrow entries – and vote for your favorite!  \nFood and drink options are available at 6 p.m. Music is 6-8 p.m.  \nAdmission to Bands & Blooms is:  FREE for Garden members. Regular admission for non-members. \nAdvance tickets recommended: $8 for ages 16+\, $4 for ages 3-15. Day of tickets are $10/$5 respectively. \n \nBands & Blooms will be every Thursday\, September 21 – October 26\, 6-8 p.m. \nGoing on during Bands & Blooms: BOOtanical\nThrow on your favorite costume and join us Thursday evenings in October\, 6-8 p.m.\, as the Children’s Discovery Garden transforms into an enchanting garden for a BOOtanical Experience!  Families can stroll through the lighted pathways and past non-spooky decorations to visit eleven BOOtanical booths including ghost origami\, pictures with a costumed character\, maggot painting\, and games!   Additional ticket required to participate in BOOtanical experience. More information here!
URL:https://www.tulsabotanic.org/event/bands-blooms-steve-liddell-duo/
CATEGORIES:Family Programs
ATTACH;FMTTYPE=image/jpeg:https://www.tulsabotanic.org/wp-content/uploads/2023/09/379632658_1418676098697148_4030633538971312765_n.jpg
END:VEVENT
BEGIN:VEVENT
DTSTART;TZID=America/Chicago:20231026T180000
DTEND;TZID=America/Chicago:20231026T200000
DTSTAMP:20260422T055531
CREATED:20230925T220220Z
LAST-MODIFIED:20230925T220220Z
UID:11100-1698343200-1698350400@www.tulsabotanic.org
SUMMARY:BOOtanical
DESCRIPTION:BOOtanical is sponsored by Ferguson Subaru! \nThrow on your favorite costume and join us Thursday evenings in October\, 6-8 p.m.\, as the Children’s Discovery Garden transforms into an enchanting garden for a BOOtanical Experience!  Families can stroll through the lighted pathways and past non-spooky decorations to visit eleven BOOtanical booths including ghost origami\, pictures with a costumed character\, maggot painting\, and games!    \nWith a ticket to BOOtanical\, each child gets a wristband and bag for carrying their crafts and prizes.  Each child participating in BOOtanical Experience will need a BOOtanical ticket in addition to a regular admission ticket.    \nBOOtanical tickets purchased in advance are $8/participating child for Garden members\, $10 for non-member children.  Same day tickets are $10/$12 per participating child.  \n(Garden admission tickets must be purchased in addition to BOOtanical tickets.  There is no additional charge for adults accompanying children other then regular admission.)  \n \nOct. 5: Character visit: Maleficent  \nOct. 12: Character visit: Peter Pan & Tinker Bell  \nOct. 19: Character visit: Jack & Sally from The Nightmare Before Christmas   \nOct. 26: Character visit: Sanderson Sisters from Hocus Pocus   \nBOOtanical Experiences are rain or shine! Come dressed for weather.  If needed\, we will move activities inside our Mabee Grange building. Tickets are non-refundable.   \nBOOtanical is sponsored by \n \n 
URL:https://www.tulsabotanic.org/event/bootanical-4/
CATEGORIES:Family Programs
ATTACH;FMTTYPE=image/jpeg:https://www.tulsabotanic.org/wp-content/uploads/2023/09/IMG_8878-scaled.jpg
END:VEVENT
END:VCALENDAR