BEGIN:VCALENDAR
VERSION:2.0
PRODID:-//Tulsa Botanic Garden - ECPv6.10.1.1//NONSGML v1.0//EN
CALSCALE:GREGORIAN
METHOD:PUBLISH
X-WR-CALNAME:Tulsa Botanic Garden
X-ORIGINAL-URL:https://www.tulsabotanic.org
X-WR-CALDESC:Events for Tulsa Botanic Garden
REFRESH-INTERVAL;VALUE=DURATION:PT1H
X-Robots-Tag:noindex
X-PUBLISHED-TTL:PT1H
BEGIN:VTIMEZONE
TZID:America/Chicago
BEGIN:DAYLIGHT
TZOFFSETFROM:-0600
TZOFFSETTO:-0500
TZNAME:CDT
DTSTART:20230312T080000
END:DAYLIGHT
BEGIN:STANDARD
TZOFFSETFROM:-0500
TZOFFSETTO:-0600
TZNAME:CST
DTSTART:20231105T070000
END:STANDARD
END:VTIMEZONE
BEGIN:VEVENT
DTSTART;TZID=America/Chicago:20230513T150000
DTEND;TZID=America/Chicago:20230513T180000
DTSTAMP:20260421T205211
CREATED:20230113T180944Z
LAST-MODIFIED:20230511T120819Z
UID:8794-1683990000-1684000800@www.tulsabotanic.org
SUMMARY:DIG: Day in the Garden
DESCRIPTION:Bring the whole family for an afternoon with loads of fun for the kids! \nJoin us for our tenth annual DIG: Day In the Garden!  This family-friendly  event offers a picnic-like feel and lots of activities for young and young-at-heart.  \nKids can have fun with bubble-making stations\, face painting\, and a garden scavenger hunt.  A “Make a Fairy Garden” station will let kids plant and decorate their own mini-garden to take home. Hot Toast Music Company will have their interactive performance with sing along songs and instruments to play along. Families can take a photo together at our family photo booth. It’s a great way to spend time as a family\, celebrate mom and give her the evening off!  \nFamily-friendly food will be available and Josh’s Sno Shack will be onsite with snow cones for a sweet treat! \nTickets include all activities\, food and non-alcoholic drinks. Beer\, wine and cocktails will be available for sale (credit card only) \nKids are free with adult ticket.  Garden members: $45 per adult. Non-members: $65. \nThe Garden will close to general admission at 2 p.m. to set up for this event.  \nProceeds from this event help support the Botanic Garden. Tickets are non-refundable.  \nEvent is rain or shine.  If needed\, all the fun will be moved inside our Mabee Grange event building and under a tent.  \nOnline Ticket Sales have closed.  Please call us at 918-289-0330 to purchase by phone. \n  \n  \n  \n\n\n\n			\n				\n						\n			\n				\n			\n		\n							\n			\n		\n				\n						\n			\n				\n			\n		\n							\n			\n		\n		\n		\n			\n\nThank you to our 2023 DIG Sponsors: \nPam & Terry Carter | MCR Branding | Pat & Clayton Woodrum | Studio 45 Architects | Sherry Family | Reed & Gabi Oppenheimer | Caroll Hunt | Carter & Higgins Orthodontics | Barbara & Allen Smallwood | Mattress Firm | Vaughan Insurance Group\, LLC \n      \n  \n  \n  \n  \n  \n  \n  \n Become a DIG Sponsor! \nFor more information on sponsorship opportunities\, contact Nancy Moore\, Development Director at 918-289-0330.
URL:https://www.tulsabotanic.org/event/dig-day-in-the-garden/
CATEGORIES:Family Programs
ATTACH;FMTTYPE=image/jpeg:https://www.tulsabotanic.org/wp-content/uploads/2023/01/DSC4139.jpg
END:VEVENT
BEGIN:VEVENT
DTSTART;TZID=America/Chicago:20230514T100000
DTEND;TZID=America/Chicago:20230514T170000
DTSTAMP:20260421T205211
CREATED:20230425T195259Z
LAST-MODIFIED:20230425T201650Z
UID:9860-1684058400-1684083600@www.tulsabotanic.org
SUMMARY:Mother's Day
DESCRIPTION:Spend some time with mom\, grandmother\, or someone like a mom to you by enjoying beautiful blooms together in the Garden.  Moms will receive free heart-shaped seed paper to take home and plant with Garden admission (while supplies last).  Mimosas will be available for sale from noon to 4 p.m.  \nThe Garden will be open regular hours: 10 a.m.-5 p.m. on Mother’s Day. 
URL:https://www.tulsabotanic.org/event/mothers-day/
CATEGORIES:Family Programs
ATTACH;FMTTYPE=image/jpeg:https://www.tulsabotanic.org/wp-content/uploads/2023/04/flowerheart.jpg
END:VEVENT
BEGIN:VEVENT
DTSTART;TZID=America/Chicago:20230520T110000
DTEND;TZID=America/Chicago:20230520T140000
DTSTAMP:20260421T205211
CREATED:20230401T034149Z
LAST-MODIFIED:20230505T183059Z
UID:9689-1684580400-1684591200@www.tulsabotanic.org
SUMMARY:Dirt to Design: Kid's Ceramic Workshop
DESCRIPTION:For ages 6 and up with a parent \nCome explore the craft of pottery with some modern twists. We will be hosting a craft day where kids can create whatever their imagination comes up with through clay. \nFrom 11 to noon\, kids can work with clay to make their own creation. We’ll have lots of tools including stamps they can use for making their clay masterpiece. We’ll also have time for a lunch break (bring a sack lunch) and exploring the Garden while clay creations are baked to dry. \nWe’ll reconvene at 1 p.m. for time to paint their pieces. We’ll also explore clay we’ve dug straight from the earth and show examples of the stages of how Native Americans processed clay to make beautiful pottery for centuries. \nTICKETS: Cost per child\, age 6 and up (includes Garden admission):\nMembers: $25  | Non-members:$30\nNo charge for parents except regular Garden admission. \nWorkshop will be in Children’s Discovery Garden Amphitheatre. Bring lunch and wear/bring clothes that can get a little messy.  \n \n 
URL:https://www.tulsabotanic.org/event/dirt-to-design-kids-ceramic-workshop/
CATEGORIES:Family Programs
ATTACH;FMTTYPE=image/jpeg:https://www.tulsabotanic.org/wp-content/uploads/2023/03/kidclayworkshop-horiz.jpeg
END:VEVENT
END:VCALENDAR