BEGIN:VCALENDAR
VERSION:2.0
PRODID:-//Tulsa Botanic Garden - ECPv6.10.1.1//NONSGML v1.0//EN
CALSCALE:GREGORIAN
METHOD:PUBLISH
X-WR-CALNAME:Tulsa Botanic Garden
X-ORIGINAL-URL:https://www.tulsabotanic.org
X-WR-CALDESC:Events for Tulsa Botanic Garden
REFRESH-INTERVAL;VALUE=DURATION:PT1H
X-Robots-Tag:noindex
X-PUBLISHED-TTL:PT1H
BEGIN:VTIMEZONE
TZID:America/Chicago
BEGIN:DAYLIGHT
TZOFFSETFROM:-0600
TZOFFSETTO:-0500
TZNAME:CDT
DTSTART:20230312T080000
END:DAYLIGHT
BEGIN:STANDARD
TZOFFSETFROM:-0500
TZOFFSETTO:-0600
TZNAME:CST
DTSTART:20231105T070000
END:STANDARD
END:VTIMEZONE
BEGIN:VEVENT
DTSTART;TZID=America/Chicago:20230315T100000
DTEND;TZID=America/Chicago:20230315T170000
DTSTAMP:20260421T175827
CREATED:20230216T222150Z
LAST-MODIFIED:20230216T222150Z
UID:9294-1678874400-1678899600@www.tulsabotanic.org
SUMMARY:Spring Break: Ides of March
DESCRIPTION:Learn Latin namesof common plants in the Garden.
URL:https://www.tulsabotanic.org/event/spring-break-ides-of-march/
CATEGORIES:Family Programs
ATTACH;FMTTYPE=image/jpeg:https://www.tulsabotanic.org/wp-content/uploads/2023/02/IMG_0676.jpg
END:VEVENT
BEGIN:VEVENT
DTSTART;TZID=America/Chicago:20230317T103000
DTEND;TZID=America/Chicago:20230317T120000
DTSTAMP:20260421T175827
CREATED:20230216T215857Z
LAST-MODIFIED:20230308T181846Z
UID:9289-1679049000-1679054400@www.tulsabotanic.org
SUMMARY:Spring Break: Celebrate St. Patrick's Day
DESCRIPTION:Celebrate St. Patrick’s Day at the Garden! Make & Take Clover Containers craft from 10:30am to 12pm. \nShamrock mocktails\, Irish Coffeeand other drinks will be available for sale all day. \nThis craft is free with paid admission\, but advanced registration is required.
URL:https://www.tulsabotanic.org/event/spring-break-celebrate-st-patricks-day/
CATEGORIES:Family Programs
ATTACH;FMTTYPE=image/png:https://www.tulsabotanic.org/wp-content/uploads/2023/02/st-patricks.png
END:VEVENT
BEGIN:VEVENT
DTSTART;TZID=America/Chicago:20230323T180000
DTEND;TZID=America/Chicago:20230323T200000
DTSTAMP:20260421T175827
CREATED:20230221T183801Z
LAST-MODIFIED:20230320T185538Z
UID:9334-1679594400-1679601600@www.tulsabotanic.org
SUMMARY:Bands & Blooms: Annie Ellicott
DESCRIPTION:Photo by Bob Williams \nAnnie Ellicott is a jazz vocalist and songwriter who has toured the United States and Europe\, performing both traditional jazz and original compositions. She’s also a recurring guest vocalist with Jeff Goldblum and the Mildred Snitzer Orchestra. Food and drink options will be available at 5:00pm. Music is 6-8 p.m. Local artist Sara Bost Fisher will be on hand on Thursday\, March 23 at 6 p.m. to showcase new pieces created specifically for the Botanic Garden’s gift shop. \nBring a blanket or chairs. Free for Garden members. Regular admission for non-members. \nAdvance tickets recommended: $8 for ages 16+\, $4 for ages 3-15. Day of tickets are $10/$5 respectively. \n \nBands & Blooms will be every Thursday\, March 23 – May 4\, 6-8 p.m.\nOur spring concerts offer opportunities to stroll the Garden\, picnic\, and enjoy live music. Bring chair or blanket. Food and drink options will be available at 5:00 p.m. Click Here for Food & Drink Menu! Free for Garden members!
URL:https://www.tulsabotanic.org/event/bands-blooms-annie-ellicott-2/
CATEGORIES:Family Programs
ATTACH;FMTTYPE=image/jpeg:https://www.tulsabotanic.org/wp-content/uploads/2023/02/DSC2186-2-1-scaled.jpg
END:VEVENT
BEGIN:VEVENT
DTSTART;TZID=America/Chicago:20230330T180000
DTEND;TZID=America/Chicago:20230330T200000
DTSTAMP:20260421T175827
CREATED:20230221T184810Z
LAST-MODIFIED:20230320T185617Z
UID:9338-1680199200-1680206400@www.tulsabotanic.org
SUMMARY:Bands & Blooms: Bossa
DESCRIPTION:Unwind with an evening in the Garden! Experience the vibrant colors of spring flowers and the music of Ana Berry and Bossa in the Garden. Food and drink options will be available at 5:00pm. Music is 6-8 p.m. \nBring a blanket or chairs. Free for Garden members. Regular admission for non-members. \nAdvance tickets recommended: $8 for ages 16+\, $4 for ages 3-15. Day of tickets are $10/$5 respectively. \n \nBands & Blooms will be every Thursday\, March 23 – May 4\, 6-8 p.m.\nOur spring concerts offer opportunities to stroll the Garden\, picnic\, and enjoy live music. Bring chair or blanket. Food and drink options will be available at 5:00 p.m. Click Here for Food & Drink Menu! Free for Garden members!
URL:https://www.tulsabotanic.org/event/bands-blooms-bossa-2/
CATEGORIES:Family Programs
ATTACH;FMTTYPE=image/jpeg:https://www.tulsabotanic.org/wp-content/uploads/2023/02/bands-and-blooms-bossa.jpeg
END:VEVENT
END:VCALENDAR