BEGIN:VCALENDAR
VERSION:2.0
PRODID:-//Tulsa Botanic Garden - ECPv6.10.1.1//NONSGML v1.0//EN
CALSCALE:GREGORIAN
METHOD:PUBLISH
X-ORIGINAL-URL:https://www.tulsabotanic.org
X-WR-CALDESC:Events for Tulsa Botanic Garden
REFRESH-INTERVAL;VALUE=DURATION:PT1H
X-Robots-Tag:noindex
X-PUBLISHED-TTL:PT1H
BEGIN:VTIMEZONE
TZID:America/Chicago
BEGIN:DAYLIGHT
TZOFFSETFROM:-0600
TZOFFSETTO:-0500
TZNAME:CDT
DTSTART:20250309T080000
END:DAYLIGHT
BEGIN:STANDARD
TZOFFSETFROM:-0500
TZOFFSETTO:-0600
TZNAME:CST
DTSTART:20251102T070000
END:STANDARD
END:VTIMEZONE
BEGIN:VEVENT
DTSTART;TZID=America/Chicago:20250628T083000
DTEND;TZID=America/Chicago:20250628T093000
DTSTAMP:20260421T082921
CREATED:20250415T150422Z
LAST-MODIFIED:20250415T151808Z
UID:16493-1751099400-1751103000@www.tulsabotanic.org
SUMMARY:Talk & Teach: Pests & Pollinators - Finding the Right Balance in Your Garden  
DESCRIPTION:Class Three: Pests & Pollinators – Finding the Right Balance in Your Garden wraps up our “Talk and Teach” series with practical advice from Brian Jervis\, Oklahoma State Extension Horticulturist\, on identifying helpful insects and managing harmful ones. Learn how to support pollinators while keeping common garden pests in check. Enjoy complimentary coffee and donuts\, then explore the Garden and Cross Timbers Nature Trail with your included admission. The class takes place indoors at the Mabee Grange event center.    \nDiscount Pricing for Garden members!!    \nMembers $10\nNon-Members may purchase tickets for $25  \n\nWorkshop will be located in the Mabee Grange Event Center \nGates open at 8:00 am\, class begins promptly at 8:30 am   \nEnter through the Visitor Center\, each guest must have a ticket \nAdvance ticket purchase strongly encouraged      \n\n   \nPlease join us in the FALL for our next series!  \n  \n  \n \n 
URL:https://www.tulsabotanic.org/event/talk-teach-pests-pollinators-finding-the-right-balance-in-your-garden/
CATEGORIES:Adult Programs,Paid Programs
ATTACH;FMTTYPE=image/jpeg:https://www.tulsabotanic.org/wp-content/uploads/2025/04/DSC_0478editscrop-scaled.jpg
END:VEVENT
BEGIN:VEVENT
DTSTART;TZID=America/Chicago:20250628T103000
DTEND;TZID=America/Chicago:20250628T110000
DTSTAMP:20260421T082921
CREATED:20250520T020411Z
LAST-MODIFIED:20250625T004539Z
UID:16706-1751106600-1751108400@www.tulsabotanic.org
SUMMARY:Tree Fort Storytime
DESCRIPTION:Join us in the Tree Fort in the Driskill Children’s Discovery Garden as we read a nature-themed story together! Suitable for ages 10 and under\, free with Garden admission.  \nAfterward\, pick up a scavenger hunt sheet to find all the fun and colorful sculptures of FLORIGAMI IN THE GARDEN.  \n 
URL:https://www.tulsabotanic.org/event/tree-fort-storytime-8/2025-06-28/
CATEGORIES:Family Programs,Paid Programs
ATTACH;FMTTYPE=image/jpeg:https://www.tulsabotanic.org/wp-content/uploads/2025/04/large-storytime.jpg
END:VEVENT
END:VCALENDAR