BEGIN:VCALENDAR
VERSION:2.0
PRODID:-//Tulsa Botanic Garden - ECPv6.10.1.1//NONSGML v1.0//EN
CALSCALE:GREGORIAN
METHOD:PUBLISH
X-ORIGINAL-URL:https://www.tulsabotanic.org
X-WR-CALDESC:Events for Tulsa Botanic Garden
REFRESH-INTERVAL;VALUE=DURATION:PT1H
X-Robots-Tag:noindex
X-PUBLISHED-TTL:PT1H
BEGIN:VTIMEZONE
TZID:America/Chicago
BEGIN:DAYLIGHT
TZOFFSETFROM:-0600
TZOFFSETTO:-0500
TZNAME:CDT
DTSTART:20250309T080000
END:DAYLIGHT
BEGIN:STANDARD
TZOFFSETFROM:-0500
TZOFFSETTO:-0600
TZNAME:CST
DTSTART:20251102T070000
END:STANDARD
END:VTIMEZONE
BEGIN:VEVENT
DTSTART;TZID=America/Chicago:20250619T180000
DTEND;TZID=America/Chicago:20250619T200000
DTSTAMP:20260421T081954
CREATED:20250321T172603Z
LAST-MODIFIED:20250619T031052Z
UID:16119-1750356000-1750363200@www.tulsabotanic.org
SUMMARY:Bands & Blooms: Denise Hoey and David John
DESCRIPTION:More hours for flowers – our Bands & Blooms are great for a date night\, girls’ night out\, meet-up with friends or a family outing! Bring chairs or a blanket\, if you like\, to enjoy the live music from local artists and fantastic views from the lawn. \nFOOD & DRINK\,  starting at 5 p.m.: Our Botanic Bar has beer\, wine and cocktails to sip as you stroll through our lush gardens! \nOur Garden of Eatin’ will have delicious food options for purchase. \n MENU\nNo outside food and drink is allowed on Thursday nights. All transactions at the Garden are cashless.  \nMUSIC: 6-8 p.m.\nDenise Hoey and David John will be performing jazz and pop. Denise has been singing for over 30 years.  Take a listen on her website. \nYour admission includes exploring the artworks of FLORIGAMI IN THE GARDEN that are set throughout our 5 gardens. \nAdvance tickets recommended. \nTICKETS: Free tickets for Garden members!  Join today!\nAges 16+: $15\, ages 3-15: $10\, Children 2 and under: $0 ticket.\nAll transactions onsite are cashless. \nGuest passes and reciprocal admissions will not be accepted for admission. Prices above do not include tax or processing fees. \n \nThanks to our Spring 2025 Bands & Blooms Sponsor:
URL:https://www.tulsabotanic.org/event/bands-blooms-denise-david/
CATEGORIES:Adult Programs,Family Programs,Paid Programs
ATTACH;FMTTYPE=image/jpeg:https://www.tulsabotanic.org/wp-content/uploads/2025/03/denisehoey2.jpg
END:VEVENT
END:VCALENDAR