BEGIN:VCALENDAR
VERSION:2.0
PRODID:-//Tulsa Botanic Garden - ECPv6.10.1.1//NONSGML v1.0//EN
CALSCALE:GREGORIAN
METHOD:PUBLISH
X-ORIGINAL-URL:https://www.tulsabotanic.org
X-WR-CALDESC:Events for Tulsa Botanic Garden
REFRESH-INTERVAL;VALUE=DURATION:PT1H
X-Robots-Tag:noindex
X-PUBLISHED-TTL:PT1H
BEGIN:VTIMEZONE
TZID:America/Chicago
BEGIN:DAYLIGHT
TZOFFSETFROM:-0600
TZOFFSETTO:-0500
TZNAME:CDT
DTSTART:20250309T080000
END:DAYLIGHT
BEGIN:STANDARD
TZOFFSETFROM:-0500
TZOFFSETTO:-0600
TZNAME:CST
DTSTART:20251102T070000
END:STANDARD
END:VTIMEZONE
BEGIN:VEVENT
DTSTART;TZID=America/Chicago:20250606T083000
DTEND;TZID=America/Chicago:20250606T100000
DTSTAMP:20260421T082921
CREATED:20250520T020149Z
LAST-MODIFIED:20250520T020149Z
UID:16697-1749198600-1749204000@www.tulsabotanic.org
SUMMARY:Early Member Morning
DESCRIPTION:Tulsa Botanic Garden members can enjoy the Garden starting at 8:30 a.m. each Friday through Nov. 21\, 2025. (closed July 4) It’s a great time for photography\, birdwatching or a stroll through the Garden as our horticulture team prepares for opening. Complimentary coffee bar will be available in the Visitor Center. \nNote: Power and construction equipment may be in use by staff to prepare the Garden for opening. \nMembers\, for your free online tickets\, select the date and then verify your membership with your membership number (or enter email to have it sent to you) to be able to see and select the 8:30 a.m. time slot.\nNot a member? Join today!
URL:https://www.tulsabotanic.org/event/early-member-morning-8/2025-06-06/
CATEGORIES:Adult Programs,Paid Programs
ATTACH;FMTTYPE=image/jpeg:https://www.tulsabotanic.org/wp-content/uploads/2024/05/nature-trail-from-robert.jpeg
END:VEVENT
BEGIN:VEVENT
DTSTART;TZID=America/Chicago:20250606T103000
DTEND;TZID=America/Chicago:20250606T113000
DTSTAMP:20260421T082921
CREATED:20250426T040200Z
LAST-MODIFIED:20250426T040200Z
UID:16586-1749205800-1749209400@www.tulsabotanic.org
SUMMARY:First Friday Horticulture Tour
DESCRIPTION:Join Garden Curator Jeffrey Fox for a walking tour in the A.R. and Marylouise Tandy Floral Terraces exploring what’s blooming and other plants of interest!   \nTour is free with Garden admission\, however spaces are limited to first-come\, first-served sign up sheet in Visitor Center that morning.  \nPre-purchase Garden admission tickets below.
URL:https://www.tulsabotanic.org/event/first-friday-horticulture-tour-22/
CATEGORIES:Adult Programs,Paid Programs
ATTACH;FMTTYPE=image/jpeg:https://www.tulsabotanic.org/wp-content/uploads/2022/07/horttour-Adults-2-scaled.jpg
END:VEVENT
BEGIN:VEVENT
DTSTART;TZID=America/Chicago:20250606T190000
DTEND;TZID=America/Chicago:20250606T200000
DTSTAMP:20260421T082921
CREATED:20250426T033152Z
LAST-MODIFIED:20250522T020842Z
UID:16178-1749236400-1749240000@www.tulsabotanic.org
SUMMARY:Sunset Yoga
DESCRIPTION:Get that Summer Stretch!\nJoin us for our third Yoga-centered workshop of 2025!\nEnjoy a gentle\, reflective yoga session hosted by our friends at the Humble Warrior Collective\, with the magical tapestry of sunset over the Osage Hills. Humble Warrior Collective Exec. Director Kendra Guthrie will lead this yoga session. \nClass will be held outdoors in the Garden\, weather permitting. We will embrace the energy of the setting sun with calming\, grounding poses\, gentle breathwork\, and sound bath meditation to invite a sense of peace and connection with nature. \nWhat is  a sound bath? \nImagine a warm hug for your mind and body. A sound bath is a gentle\, immersive experience that combines meditation with sound. This practice works like a reset for your nervous system. Research suggests that these experiences can help reduce stress\, quiet the mind\, and ease physical tension. One study found measurable decreases in feelings of anxiety\, fatigue\, and mood disturbances after sound meditation sessions with instruments like singing bowls. Sound baths support relaxation by calming the nervous system and encouraging a meditative state. Sound bath will be led by Hannah Demuth of High Vibrations Co.  \nDetails\nWe will move class inside our Mabee Grange Event Center\, if needed due to weather.  \n• Tulsa Botanic Garden members are FREE!! Non-Members may purchase tickets for $30.\n• Workshop will be located outside in the Garden\, weather permitting.\n• Please arrive by 6:30 pm\, class begins at 7:00 pm.\n• Mats\, blocks\, and blankets are provided by the instructor\, but you’re welcome to bring your own favorite Yoga equipment. \n**Advance purchase required. Please be sure to purchase your ticket through the Garden website before arrival. \nBecome a Member!    \nThis workshop is offered in collaboration with the Humble Warrior Collective\, a local organization that provides access to trauma-informed movement and mindfulness techniques\, empowering communities to cultivate personal wellness\, discovery\, and resilience. \n \n  \nSave the Date!  Sunday\, Nov. 9 – Sound Bath Experience
URL:https://www.tulsabotanic.org/event/sunset-yoga/
CATEGORIES:Adult Programs,Paid Programs
ATTACH;FMTTYPE=image/jpeg:https://www.tulsabotanic.org/wp-content/uploads/2024/12/Humble-Warrior-Heart-Mudra-web.jpg
END:VEVENT
END:VCALENDAR