BEGIN:VCALENDAR
VERSION:2.0
PRODID:-//Tulsa Botanic Garden - ECPv6.10.1.1//NONSGML v1.0//EN
CALSCALE:GREGORIAN
METHOD:PUBLISH
X-WR-CALNAME:Tulsa Botanic Garden
X-ORIGINAL-URL:https://www.tulsabotanic.org
X-WR-CALDESC:Events for Tulsa Botanic Garden
REFRESH-INTERVAL;VALUE=DURATION:PT1H
X-Robots-Tag:noindex
X-PUBLISHED-TTL:PT1H
BEGIN:VTIMEZONE
TZID:America/Chicago
BEGIN:DAYLIGHT
TZOFFSETFROM:-0600
TZOFFSETTO:-0500
TZNAME:CDT
DTSTART:20250309T080000
END:DAYLIGHT
BEGIN:STANDARD
TZOFFSETFROM:-0500
TZOFFSETTO:-0600
TZNAME:CST
DTSTART:20251102T070000
END:STANDARD
END:VTIMEZONE
BEGIN:VEVENT
DTSTART;TZID=America/Chicago:20250531T083000
DTEND;TZID=America/Chicago:20250531T093000
DTSTAMP:20260421T102417
CREATED:20250415T150916Z
LAST-MODIFIED:20250507T160605Z
UID:16486-1748680200-1748683800@www.tulsabotanic.org
SUMMARY:Talk & Teach: Successfully Growing Vegetables
DESCRIPTION:Class Two: Successfully Growing Vegetables  is the second in our three-part “Talk and Teach” series presented by OSU Tulsa County Master Gardeners. Learn practical tips from Dr. Tom Ingram with OSU\, Tulsa County Extension Horticulture  for starting or improving your home vegetable garden. Connect with fellow gardeners and enjoy complimentary coffee and donuts.  Admission to the Garden and Cross Timbers Nature Trail is included with ticket purchase\, so after class be sure to explore all the blooms in the Garden\, as well as the inspiring art of FLORIGAMI IN THE GARDEN!   \nGarden Members $0 – Join today!\nNon-Members may purchase tickets for $25   \n\nComplimentary coffee and donuts\nTicket includes admission to the Garden (including FLORIGAMI IN THE GARDEN) and Cross Timbers Nature Trail.\nWorkshop will be located inside the Mabee Grange Event Center \nGates open at 8:00 am\, class begins promptly at 8:30 am   \nEnter through the Visitor Center\, each guest must have a ticket \nAdvance ticket purchase strongly encouraged\n \n\n Tickets on sale now for class three of this series! \nJune 28: Pests & Pollinators – Finding the Right Balance in Your Garden  \n \n  \n 
URL:https://www.tulsabotanic.org/event/talk-teach-successfully-growing-veggies/
CATEGORIES:Adult Programs,Paid Programs
ATTACH;FMTTYPE=image/jpeg:https://www.tulsabotanic.org/wp-content/uploads/2025/04/vegetables-790022_1920.jpg
END:VEVENT
END:VCALENDAR