BEGIN:VCALENDAR
VERSION:2.0
PRODID:-//Tulsa Botanic Garden - ECPv6.10.1.1//NONSGML v1.0//EN
CALSCALE:GREGORIAN
METHOD:PUBLISH
X-ORIGINAL-URL:https://www.tulsabotanic.org
X-WR-CALDESC:Events for Tulsa Botanic Garden
REFRESH-INTERVAL;VALUE=DURATION:PT1H
X-Robots-Tag:noindex
X-PUBLISHED-TTL:PT1H
BEGIN:VTIMEZONE
TZID:America/Chicago
BEGIN:DAYLIGHT
TZOFFSETFROM:-0600
TZOFFSETTO:-0500
TZNAME:CDT
DTSTART:20250309T080000
END:DAYLIGHT
BEGIN:STANDARD
TZOFFSETFROM:-0500
TZOFFSETTO:-0600
TZNAME:CST
DTSTART:20251102T070000
END:STANDARD
END:VTIMEZONE
BEGIN:VEVENT
DTSTART;TZID=America/Chicago:20250511T100000
DTEND;TZID=America/Chicago:20250511T170000
DTSTAMP:20260421T101524
CREATED:20250415T181627Z
LAST-MODIFIED:20250504T045038Z
UID:16517-1746957600-1746982800@www.tulsabotanic.org
SUMMARY:Mother's Day
DESCRIPTION:Celebrate Mother’s Day surrounded by nature’s beauty! Create lasting memories at the “Build a Bouquet” station on the Main lawn (additional fee\, card-only\, while supplies last). \nLight bites and Mimosas\, Bloody Marys and a mocktail option will be available for purchase. \nStroll the Garden to see irises\, magnolias\, roses\, daylilies\, peonies and more in bloom. See the colorful\, larger-than-life sculptures of FLORIGAMI IN THE GARDEN\, an exhibit by Santa Fe artists Jennifer and Kevin Box in collaboration with origami masters. Pick up a map\, brochure\, and scavenger hunt sheet to help you discover all 20 installations throughout the garden. \nBefore you go\, shop our seasonal Plant Sale for the perfect porch\, yard\, or windowsill addition—or give the gift of year-round beauty with a Garden membership.
URL:https://www.tulsabotanic.org/event/mothers-day-3/
CATEGORIES:Adult Programs,Family Programs,Paid Programs
ATTACH;FMTTYPE=image/jpeg:https://www.tulsabotanic.org/wp-content/uploads/2025/04/20240417_133250-scaled.jpg
END:VEVENT
END:VCALENDAR