BEGIN:VCALENDAR
VERSION:2.0
PRODID:-//Tulsa Botanic Garden - ECPv6.10.1.1//NONSGML v1.0//EN
CALSCALE:GREGORIAN
METHOD:PUBLISH
X-WR-CALNAME:Tulsa Botanic Garden
X-ORIGINAL-URL:https://www.tulsabotanic.org
X-WR-CALDESC:Events for Tulsa Botanic Garden
REFRESH-INTERVAL;VALUE=DURATION:PT1H
X-Robots-Tag:noindex
X-PUBLISHED-TTL:PT1H
BEGIN:VTIMEZONE
TZID:America/Chicago
BEGIN:DAYLIGHT
TZOFFSETFROM:-0600
TZOFFSETTO:-0500
TZNAME:CDT
DTSTART:20250309T080000
END:DAYLIGHT
BEGIN:STANDARD
TZOFFSETFROM:-0500
TZOFFSETTO:-0600
TZNAME:CST
DTSTART:20251102T070000
END:STANDARD
END:VTIMEZONE
BEGIN:VEVENT
DTSTART;TZID=America/Chicago:20250510T100000
DTEND;TZID=America/Chicago:20250510T170000
DTSTAMP:20260421T102337
CREATED:20250416T185714Z
LAST-MODIFIED:20250416T185714Z
UID:16527-1746871200-1746896400@www.tulsabotanic.org
SUMMARY:Second Saturday Dog Day
DESCRIPTION:Bring your pup out for our Second Saturday Dog Day\, a special day each month\, that they can join you for a walk (and sniffs!) in the Botanic Garden. \nNote:  Dogs must be controlled by a non-retractable leash at all times and owners must pick up after their dogs.  Limit 2 dogs per household.  The Garden reserves the right to ask owners who do not follow policies or cannot control their dog to leave the premises with no refunds granted.  \nTICKETS: Free for Garden Members;  \nAges 16+ | $15; Ages 3-15 | $10; Children 2 and under | $0 ticket \nPurchase tickets in advance for fast check-in inside the Visitor Center.  \n \nAdmission Tickets March 2-Sept. 21\, 2025 include seeing FLORIGAMI IN THE GARDEN.  \nGuest passes and Reciprocal admission are not valid during this time. 
URL:https://www.tulsabotanic.org/event/second-saturday-dog-day-25/
CATEGORIES:Adult Programs,Paid Programs
ATTACH;FMTTYPE=image/jpeg:https://www.tulsabotanic.org/wp-content/uploads/2024/06/PXL_20240608_161108772.MP2-1-scaled-e1740617669551.jpg
END:VEVENT
END:VCALENDAR