BEGIN:VCALENDAR
VERSION:2.0
PRODID:-//Tulsa Botanic Garden - ECPv6.10.1.1//NONSGML v1.0//EN
CALSCALE:GREGORIAN
METHOD:PUBLISH
X-WR-CALNAME:Tulsa Botanic Garden
X-ORIGINAL-URL:https://www.tulsabotanic.org
X-WR-CALDESC:Events for Tulsa Botanic Garden
REFRESH-INTERVAL;VALUE=DURATION:PT1H
X-Robots-Tag:noindex
X-PUBLISHED-TTL:PT1H
BEGIN:VTIMEZONE
TZID:America/Chicago
BEGIN:DAYLIGHT
TZOFFSETFROM:-0600
TZOFFSETTO:-0500
TZNAME:CDT
DTSTART:20250309T080000
END:DAYLIGHT
BEGIN:STANDARD
TZOFFSETFROM:-0500
TZOFFSETTO:-0600
TZNAME:CST
DTSTART:20251102T070000
END:STANDARD
END:VTIMEZONE
BEGIN:VEVENT
DTSTART;TZID=America/Chicago:20250508T180000
DTEND;TZID=America/Chicago:20250508T200000
DTSTAMP:20260421T112920
CREATED:20250311T040307Z
LAST-MODIFIED:20250425T161827Z
UID:15941-1746727200-1746734400@www.tulsabotanic.org
SUMMARY:Bands & Blooms: Booker Gillespie Trio
DESCRIPTION:More hours for flowers – our Bands & Blooms are great for a meet-up with friends or a family outing! Bring chairs or a blanket\, if you like\, to enjoy the live music from local artists and fantastic views from the lawn. \nFOOD & DRINK\,  starting at 5 p.m.: Our Botanic Bar has beer\, wine and cocktails to sip as you stroll through our lush gardens! \nOur Garden of Eatin’ will have delicious food options for purchase. No outside food and drink is allowed on Thursday nights. All transactions at the Garden are cashless. \nMENU \nMUSIC: 6-8 p.m.\nThe Booker Gillespie Trio will be playing great jazz sounds and songs.  \nYour admission includes exploring the artworks of FLORIGAMI IN THE GARDEN that are set throughout our 5 gardens. Pick up a scavenger hunt in our visitor center to start exploring! \nAdvance tickets recommended. \nTICKETS: Free tickets for Garden members!  Join today!\nAges 16+: $15\, ages 3-15: $10\, Children 2 and under: $0 ticket. \nGuest passes and reciprocal admissions will not be accepted for admission. Prices above do not include tax or processing fees. \n \nSelect Thursday\, May 8 and choose the 5 p.m. time slot (or earlier if you like).  Arrive anytime between 5 and 7:30 p.m.  Food and drink sales close at 7:30. Event and Garden close promptly at 8 p.m.  \nThanks to our Spring 2025 Bands & Blooms Sponsor:
URL:https://www.tulsabotanic.org/event/booker-gillespie-trio/
CATEGORIES:Adult Programs,Paid Programs
ATTACH;FMTTYPE=image/jpeg:https://www.tulsabotanic.org/wp-content/uploads/2023/09/bookergillespietrio2-scaled.jpg
END:VEVENT
END:VCALENDAR