BEGIN:VCALENDAR
VERSION:2.0
PRODID:-//Tulsa Botanic Garden - ECPv6.10.1.1//NONSGML v1.0//EN
CALSCALE:GREGORIAN
METHOD:PUBLISH
X-ORIGINAL-URL:https://www.tulsabotanic.org
X-WR-CALDESC:Events for Tulsa Botanic Garden
REFRESH-INTERVAL;VALUE=DURATION:PT1H
X-Robots-Tag:noindex
X-PUBLISHED-TTL:PT1H
BEGIN:VTIMEZONE
TZID:America/Chicago
BEGIN:DAYLIGHT
TZOFFSETFROM:-0600
TZOFFSETTO:-0500
TZNAME:CDT
DTSTART:20250309T080000
END:DAYLIGHT
BEGIN:STANDARD
TZOFFSETFROM:-0500
TZOFFSETTO:-0600
TZNAME:CST
DTSTART:20251102T070000
END:STANDARD
END:VTIMEZONE
BEGIN:VEVENT
DTSTART;TZID=America/Chicago:20250222T140000
DTEND;TZID=America/Chicago:20250222T160000
DTSTAMP:20260421T232643
CREATED:20250115T030430Z
LAST-MODIFIED:20250213T001234Z
UID:15411-1740232800-1740240000@www.tulsabotanic.org
SUMMARY:Origami Workshop: “Blossoms\, Birds and Butterflies”
DESCRIPTION:GARDEN MEMBERS – Join us for a workshop with instructor Mae Dean Erb to learn about origami\, the Japanese art of paper folding\, and create your own works of art! With spring\, and the Oklahoma debut of FLORIGAMI IN THE GARDEN exhibition at the Garden in sight\, Mae Dean will focus on creating origami flowers\, birds and butterflies. All materials will be supplied. All ages are welcome.  \nDETAILS:\nWorkshop will be held inside our Mabee Grange event center. Drinks and refreshments will be available for purchase. Garden members will also be able to shop the Member Only Gift Shop clearance sale in the Visitor Center.  Gates will open at 1:30 p.m. to allow time for ticket check-in at Visitor Center and short walk through the Driskill Children’s Discovery Garden to the Mabee Grange Event Center.  Other areas of the Garden will not be open for visitation.  \nTICKETS: \nBecause workshop size is limited\, we require members to reserve their space with a $0 ticket. This event is open to Garden members only.  Not a member?  Join today!  \n   \nABOUT THE INSTRUCTOR: \nMae Dean Erb holds a Masters Degree in Education and is a board certified educator. She presents Origami programs in libraries across the state of Oklahoma\, as well as nationally and internationally.  \nMae Dean received a Fulbright Memorial Fund Scholarship to Japan\, and also lived in Okinawa\, Japan for two years\, where she gained firsthand insight into this ancient Japanese artform. Mae Dean was named Teacher of the Year for El Reno Public Schools and was a finalist for Oklahoma’s Teacher of the Year. She has also received the Origami USA Teaching Award. 
URL:https://www.tulsabotanic.org/event/origami-workshop-blossoms-birds-and-butterflies/
CATEGORIES:Adult Programs,Family Programs,Paid Programs
ATTACH;FMTTYPE=image/png:https://www.tulsabotanic.org/wp-content/uploads/2025/01/origami-image.png
END:VEVENT
END:VCALENDAR