BEGIN:VCALENDAR
VERSION:2.0
PRODID:-//Tulsa Botanic Garden - ECPv6.10.1.1//NONSGML v1.0//EN
CALSCALE:GREGORIAN
METHOD:PUBLISH
X-ORIGINAL-URL:https://www.tulsabotanic.org
X-WR-CALDESC:Events for Tulsa Botanic Garden
REFRESH-INTERVAL;VALUE=DURATION:PT1H
X-Robots-Tag:noindex
X-PUBLISHED-TTL:PT1H
BEGIN:VTIMEZONE
TZID:America/Chicago
BEGIN:DAYLIGHT
TZOFFSETFROM:-0600
TZOFFSETTO:-0500
TZNAME:CDT
DTSTART:20240310T080000
END:DAYLIGHT
BEGIN:STANDARD
TZOFFSETFROM:-0500
TZOFFSETTO:-0600
TZNAME:CST
DTSTART:20241103T070000
END:STANDARD
END:VTIMEZONE
BEGIN:VEVENT
DTSTART;TZID=America/Chicago:20240616T100000
DTEND;TZID=America/Chicago:20240616T170000
DTSTAMP:20260421T100659
CREATED:20240523T201447Z
LAST-MODIFIED:20240612T025834Z
UID:13462-1718532000-1718557200@www.tulsabotanic.org
SUMMARY:Father’s Day Car Show
DESCRIPTION:Bring the family for a Father’s Day Getaway in our Mabee Grange event center from 11 a.m. to 2 p.m.  \nAll dads pay half-price of regular admission at the door on Father’s Day. \n\nSee cars on display from Heart of Route 66 Auto Museum nearby.\nLocal\, small-batch ice cream cart Cherry & Bark will be here with delicious flavors including: Strawberry Coulis (made with Oklahoma-grown strawberries) \nHot dogs\, beer\, wine and other refreshments will be available for sale (credit card only) and we’ll have seating inside the Mabee Grange. \nGames including Giant Jenga\, cornhole and Lawn Pong will be set up to play on the lawn and patio just outside the Grange.\n\nAll Fathers will receive 50% off their ticket price at the door.   \nAdmission is FREE for Garden members. Regular admission for non-members\n(Age 16+: $10\,  Age 3-15: $5\nChildren under 3: Free\, but ticket required). \n 
URL:https://www.tulsabotanic.org/event/fathers-day-car-show/
CATEGORIES:Family Programs,Paid Programs
ATTACH;FMTTYPE=image/jpeg:https://www.tulsabotanic.org/wp-content/uploads/2024/05/IMG_2075-1.jpg
END:VEVENT
END:VCALENDAR