BEGIN:VCALENDAR
VERSION:2.0
PRODID:-//Tulsa Botanic Garden - ECPv6.10.1.1//NONSGML v1.0//EN
CALSCALE:GREGORIAN
METHOD:PUBLISH
X-ORIGINAL-URL:https://www.tulsabotanic.org
X-WR-CALDESC:Events for Tulsa Botanic Garden
REFRESH-INTERVAL;VALUE=DURATION:PT1H
X-Robots-Tag:noindex
X-PUBLISHED-TTL:PT1H
BEGIN:VTIMEZONE
TZID:America/Chicago
BEGIN:DAYLIGHT
TZOFFSETFROM:-0600
TZOFFSETTO:-0500
TZNAME:CDT
DTSTART:20240310T080000
END:DAYLIGHT
BEGIN:STANDARD
TZOFFSETFROM:-0500
TZOFFSETTO:-0600
TZNAME:CST
DTSTART:20241103T070000
END:STANDARD
END:VTIMEZONE
BEGIN:VEVENT
DTSTART;TZID=America/Chicago:20240302T100000
DTEND;TZID=America/Chicago:20240302T170000
DTSTAMP:20260421T083053
CREATED:20240220T185346Z
LAST-MODIFIED:20240302T021729Z
UID:12570-1709373600-1709398800@www.tulsabotanic.org
SUMMARY:Reopening Weekend
DESCRIPTION:We’re celebrating our reopening for 2024 with a day full of activities – join us! Pick up our spring scavenger hunt in the visitor to see how many signs of spring you can find! \n10 a.m. – Horticulture Tour: join Garden staff for a 30–45-minute walking tour.  \n11 a.m. – Storytime with author Marie Stephens & Jennifer Riem \nChildren’s book author Marie Stephens and Jennifer Riem will join us in the Tree Fort and share their books: “The Festival of the Pines” a story of tree sprites and their adventures among giant sequoia trees and “The Wishing Bridge”. \n2 p.m. – Horticulture Tour: join Garden staff for a 30–45-minute walking tour. \nEnjoy fun times with friends or family playing games like cornhole\, bocce ball\, ring toss\, or  Giant Jenga\, on the lawn. Food and drinks will be available for purchase from 11 to 3.   We’ll have giveaways each hour.   \nPurchase or renew a Garden membership onsite Saturday or Sunday and be entered to win 2 tickets to our annual spring party: Sip & Stroll (formerly Tiptoe through the Tulips) on Saturday\, April 13\, 5:30-8:30 p.m.  \nGarden of Eatin’ will be open 11 a.m. – 3 p.m. (Credit cards only)\nMenu  \nAll Beef Hot Dogs\nTULSA – w/shredded cheddar\, bacon bits & scallions – $7\nSIMPLE – served plain\, add your own condiments – $5\nSPROUT – kid sized\, served plain – $3 \nDRINKS\nMimosa- w/OJ or Cranberry – $6\nWine – $7\nLocal Beer – $5\nDomestic Beer – $4\nWater – $2\nFizzy Drinks – $2\nArnold Palmer – $2
URL:https://www.tulsabotanic.org/event/reopening-weekend/
CATEGORIES:Paid Programs
ATTACH;FMTTYPE=image/jpeg:https://www.tulsabotanic.org/wp-content/uploads/2024/02/Early-Tulips-3.9.17-82-1-scaled.jpg
END:VEVENT
END:VCALENDAR