BEGIN:VCALENDAR
VERSION:2.0
PRODID:-//Tulsa Botanic Garden - ECPv6.10.1.1//NONSGML v1.0//EN
CALSCALE:GREGORIAN
METHOD:PUBLISH
X-WR-CALNAME:Tulsa Botanic Garden
X-ORIGINAL-URL:https://www.tulsabotanic.org
X-WR-CALDESC:Events for Tulsa Botanic Garden
REFRESH-INTERVAL;VALUE=DURATION:PT1H
X-Robots-Tag:noindex
X-PUBLISHED-TTL:PT1H
BEGIN:VTIMEZONE
TZID:America/Chicago
BEGIN:DAYLIGHT
TZOFFSETFROM:-0600
TZOFFSETTO:-0500
TZNAME:CDT
DTSTART:20220313T080000
END:DAYLIGHT
BEGIN:STANDARD
TZOFFSETFROM:-0500
TZOFFSETTO:-0600
TZNAME:CST
DTSTART:20221106T070000
END:STANDARD
END:VTIMEZONE
BEGIN:VEVENT
DTSTART;TZID=America/Chicago:20221226T170000
DTEND;TZID=America/Chicago:20221226T210000
DTSTAMP:20260421T100521
CREATED:20221122T163432Z
LAST-MODIFIED:20221223T163001Z
UID:8138-1672074000-1672088400@www.tulsabotanic.org
SUMMARY:Botanic Garden of Lights
DESCRIPTION:Presented by: Bank of Oklahoma \n																														 \nThursdays thru Sundays\, Nov. 25 – Dec. 4Nightly\, Dec. 8-30\,5-9 p.m.\nClosed December 15\, 24 & 25. \nReconnect with family and friends in the garden illuminated with colorful lights. Make s’mores over fire pits\, enjoy holiday music and take in the spirit of the season in our magical garden escape. Make your plans and get your timed-entry tickets now! Popular nights and times sell out quickly.  \n																\n															 \nSchedule\nIncluded with admission \nPop-up Craft every Thursday night\, 5:30-8 p.m. \nBotanical St. Nick will be here 5-8 p.m. every Friday & Saturday (through Dec. 17) and every night\, Dec. 19-23. Bring your camera! \nKid’s Train Rides are every night except Sundays. \nLive Jazz Music in the Mabee Grange each Sunday\, 5:30-8:30 p.m.Nov. 27: Annie Ellicott & David BroomeDec. 4: The Hi-Fi HillbilliesDec. 11: Booker Gillespie TrioDec. 18: Mezclave \nLet It Go! The Snow Queen\, Snow Princess and friends will be visiting on Tuesday\, Wednesday and Thursday\, Dec. 27\, 28 & 29\, 5-8 p.m. \nCaroling by Tulsa Metro Sound on Thursday\, Dec. 8\, 5:30-8 p.m. \nAdvance Tickets\n\nMembers: Ages 16+ | $10; Ages 3-15 | $5\nNon-members: Ages 16+ | $15; Ages 3-15 | $6\nChildren Age 2 and under require a $0 ticket.\nGroup rates (50+) available for purchase in advance only. Contact us for details\n\nIf available\, any day-of tickets will be: Members: Ages 16+ | $15; Ages 3-15 | $8 Non-members: Ages 16+ | $20; Ages 3-15 | $10 Prices increase at 12 a.m. on day of event \n\nOptional Ticket Add-ons\nAvailable at Check Out \n\n\nFamily Night Package $49 \n\n6 Drink Tickets*\n4 S’mores Kits\n\n*Drink tickets are good for any drink at our Botanic Bar.Please be prepared to show ID for alcoholic beverages. \nNightly\nHot cider\, cocoa and coffee (with option to spike with local spirits!)\, other seasonal cocktails\, wine\, local beer and s’more kits are available for purchase. Enjoy our Oklahoma-shaped snowball pit\, photo stops and fire pits (nightly\, weather permitting). A rotating schedule of food trucks will serve their signature dishes and other light concessions will be available for sale. \nNote: All transactions at the Garden are cashless.  \n																\n															 \nPurchase tickets today!\n																\n															 \nTickets are non-refundable. Please click here for our Ticketing & Refund Policy. \nTHANK YOU TO OUR SPONSORS: \nPresenting Sponsor: Bank of Oklahoma \nD&L Oil Tools \nReed Jules Oppenheimer Foundation \nTriad Eye Institute \nCloseBend\, Inc. \nCyclonic Valve Company \nFirst Oklahoma Bank \nBarbara and Allen Smallwood \nT.D. Williamson \nAqua Dental \nWallace Design Collective \nManhattan Construction \nThe Bama Companies\, Inc. \nBarrow & Grimm\, PC \nThe Oxley Foundation \nKleinco Construction\, LLC \nThe Sturdivant Family \nGableGotwals \nLudi and John Beasley \nJonesplan\, LLC \nOsage Casino Hotel \nTranSolPro LLC \nMabrey Bank \nBlue Sky Bank/Wendy and Gentner Drummond \nA-Best Roofing \nTulsaPeople Magazine \nRaj Basu & Rebekah Tennis
URL:https://www.tulsabotanic.org/event/botanic-garden-of-lights-7/
ATTACH;FMTTYPE=image/jpeg:https://www.tulsabotanic.org/wp-content/uploads/2022/09/Tulsa-Botanic-Garden-of-Lights-TandyTerraces.jpg
END:VEVENT
END:VCALENDAR