BEGIN:VCALENDAR
VERSION:2.0
PRODID:-//Tulsa Botanic Garden - ECPv6.10.1.1//NONSGML v1.0//EN
CALSCALE:GREGORIAN
METHOD:PUBLISH
X-ORIGINAL-URL:https://www.tulsabotanic.org
X-WR-CALDESC:Events for Tulsa Botanic Garden
REFRESH-INTERVAL;VALUE=DURATION:PT1H
X-Robots-Tag:noindex
X-PUBLISHED-TTL:PT1H
BEGIN:VTIMEZONE
TZID:America/Chicago
BEGIN:DAYLIGHT
TZOFFSETFROM:-0600
TZOFFSETTO:-0500
TZNAME:CDT
DTSTART:20220313T080000
END:DAYLIGHT
BEGIN:STANDARD
TZOFFSETFROM:-0500
TZOFFSETTO:-0600
TZNAME:CST
DTSTART:20221106T070000
END:STANDARD
END:VTIMEZONE
BEGIN:VEVENT
DTSTART;TZID=America/Chicago:20221129T180000
DTEND;TZID=America/Chicago:20221129T200000
DTSTAMP:20260421T082111
CREATED:20221011T210406Z
LAST-MODIFIED:20221121T235201Z
UID:7315-1669744800-1669752000@www.tulsabotanic.org
SUMMARY:Wreath Workshop with Anthousai Florals
DESCRIPTION:Create a unique and beautiful wreath to add to your holiday decor! Designers from Anthousai Florals will lead this workshop to craft your wreath and decorate it with natural accent pieces like pinecones\, dried textures\, berries\, ribbon and dried oranges. Great for a girl’s night or to do with a family member (age 16+) \nTicket includes materials\, holiday mocktail and s’more kit. \nTickets: Garden Member | $90; Non-member | $100 \nMaking Spirits Bright! – Drinks available for purchase at the event will include: \n\nHolly Jolly Mock-Mule flavors: cranberry\, ginger\, lime oleo-saccharum & allspice bitters\nBoozy Hot Apple Cider\nWine: Pinot Noir\, Cabernet & Rose\nHibiscus Hard Cider\nSparking Water\n\nA limited number of ‘add-on/guest’ tickets ($30) will be available to purchase to allow a friend\, date or family member (ages 16+) to attend with a member/non-member ticket holder to work together on one wreath. Add-on/guest ticket includes access to the class\, one mocktail and one s’mores kit. Option to add a ‘Guest’ ticket will display after you select number of regular tickets and click”Purchase” button. \n \n  \n  \n  \nClass will be held inside the Mabee Grange at Tulsa Botanic Garden. Participants will park in main parking lot and walk directly to Mabee Grange. Garden is not open to the public. Gates and Grange will open at 5:30 p.m.
URL:https://www.tulsabotanic.org/event/wreath-workshop-with-anthousai-florals/
CATEGORIES:Adult Programs
ATTACH;FMTTYPE=image/jpeg:https://www.tulsabotanic.org/wp-content/uploads/2022/10/wreathworkshop.jpeg
END:VEVENT
END:VCALENDAR