BEGIN:VCALENDAR
VERSION:2.0
PRODID:-//Tulsa Botanic Garden - ECPv6.10.1.1//NONSGML v1.0//EN
CALSCALE:GREGORIAN
METHOD:PUBLISH
X-ORIGINAL-URL:https://www.tulsabotanic.org
X-WR-CALDESC:Events for Tulsa Botanic Garden
REFRESH-INTERVAL;VALUE=DURATION:PT1H
X-Robots-Tag:noindex
X-PUBLISHED-TTL:PT1H
BEGIN:VTIMEZONE
TZID:America/Chicago
BEGIN:DAYLIGHT
TZOFFSETFROM:-0600
TZOFFSETTO:-0500
TZNAME:CDT
DTSTART:20220313T080000
END:DAYLIGHT
BEGIN:STANDARD
TZOFFSETFROM:-0500
TZOFFSETTO:-0600
TZNAME:CST
DTSTART:20221106T070000
END:STANDARD
END:VTIMEZONE
BEGIN:VEVENT
DTSTART;TZID=America/Chicago:20221115T120000
DTEND;TZID=America/Chicago:20221115T170000
DTSTAMP:20260421T083051
CREATED:20221020T145903Z
LAST-MODIFIED:20221115T234524Z
UID:7460-1668513600-1668531600@www.tulsabotanic.org
SUMMARY:National Philanthropy Day
DESCRIPTION:Donate $5 or more to the Garden for a chance to win an individual membership ($50 value). \nStarting Nov. 1-23\, Garden hours will be 12-5 p.m.. Garden hours on Nov. 18 and 20 will be 12-3 p.m. \n 
URL:https://www.tulsabotanic.org/event/national-philanthropy-day/
ATTACH;FMTTYPE=image/jpeg:https://www.tulsabotanic.org/wp-content/uploads/2022/09/banner_photo_1.jpg
END:VEVENT
END:VCALENDAR