BEGIN:VCALENDAR
VERSION:2.0
PRODID:-//Tulsa Botanic Garden - ECPv6.10.1.1//NONSGML v1.0//EN
CALSCALE:GREGORIAN
METHOD:PUBLISH
X-WR-CALNAME:Tulsa Botanic Garden
X-ORIGINAL-URL:https://www.tulsabotanic.org
X-WR-CALDESC:Events for Tulsa Botanic Garden
REFRESH-INTERVAL;VALUE=DURATION:PT1H
X-Robots-Tag:noindex
X-PUBLISHED-TTL:PT1H
BEGIN:VTIMEZONE
TZID:America/Chicago
BEGIN:DAYLIGHT
TZOFFSETFROM:-0600
TZOFFSETTO:-0500
TZNAME:CDT
DTSTART:20220313T080000
END:DAYLIGHT
BEGIN:STANDARD
TZOFFSETFROM:-0500
TZOFFSETTO:-0600
TZNAME:CST
DTSTART:20221106T070000
END:STANDARD
END:VTIMEZONE
BEGIN:VEVENT
DTSTART;TZID=America/Chicago:20221110T180000
DTEND;TZID=America/Chicago:20221110T193000
DTSTAMP:20260421T082904
CREATED:20221011T201252Z
LAST-MODIFIED:20221104T185526Z
UID:7311-1668103200-1668108600@www.tulsabotanic.org
SUMMARY:INFUSED-Botanic Cocktail Hour: Autumn Edition
DESCRIPTION:Experience cocktails infused with the flowers\, fruits\, and foliage of Tulsa Botanic Garden! Horticulturist and bartender Jeffrey Fox will demonstrate how to feature the tastes and smells of your garden in homemade cocktails. Workshop will include infused spirit tasting\, two cocktails\, two mocktails\, light charcuterie\, recipe cards\, and admission to the Garden.  \nThe fall-themed cocktails you’ll be sampling include in this Autumn Edition include:\nBergamot Sour Bomb\nMaple & Fig Old-Fashioned\nFine as Pine \nWhat Happened to Cinderella’s Carriage?  \nAge 21+ only event. \nMember Tickets: $80\nNon-Members: $90 \nParticipants will park in the main parking lot and walk directly to the Mabee Grange where workshop will be held. Doors open at 5:30. Event starts at 6 p.m.
URL:https://www.tulsabotanic.org/event/infused-botanic-cocktail-hour-autumn-edition/
CATEGORIES:Adult Programs
ATTACH;FMTTYPE=image/jpeg:https://www.tulsabotanic.org/wp-content/uploads/2022/10/infused-scaled.jpeg
END:VEVENT
END:VCALENDAR