BEGIN:VCALENDAR
VERSION:2.0
PRODID:-//Tulsa Botanic Garden - ECPv6.10.1.1//NONSGML v1.0//EN
CALSCALE:GREGORIAN
METHOD:PUBLISH
X-ORIGINAL-URL:https://www.tulsabotanic.org
X-WR-CALDESC:Events for Tulsa Botanic Garden
REFRESH-INTERVAL;VALUE=DURATION:PT1H
X-Robots-Tag:noindex
X-PUBLISHED-TTL:PT1H
BEGIN:VTIMEZONE
TZID:America/Chicago
BEGIN:DAYLIGHT
TZOFFSETFROM:-0600
TZOFFSETTO:-0500
TZNAME:CDT
DTSTART:20220313T080000
END:DAYLIGHT
BEGIN:STANDARD
TZOFFSETFROM:-0500
TZOFFSETTO:-0600
TZNAME:CST
DTSTART:20221106T070000
END:STANDARD
END:VTIMEZONE
BEGIN:VEVENT
DTSTART;TZID=America/Chicago:20221015T090000
DTEND;TZID=America/Chicago:20221015T100000
DTSTAMP:20260421T083052
CREATED:20220908T145227Z
LAST-MODIFIED:20221015T035251Z
UID:5859-1665824400-1665828000@www.tulsabotanic.org
SUMMARY:Koi Release Party
DESCRIPTION:We will be adding Koi to the Children’s Discovery Garden!  Join curator Julie Powers before we open to the public and meet our finned friends.  Botanic Bar will be available for purchase – including coffee\, mimosas and koi koolers mocktails.  Come out and join our staff for Storytime\, fish feeding\, cookies and more! \nTickets:\nMembers: $5 per person;\nNon-members: Ages 16+ | $15; Ages 3-15 | $10; Ages 2 and under | $0 ticket\n(this includes Garden admission and you are welcome to stay after the program to enjoy the Garden.) \nOnline ticket sales have ended.  Tickets will be available for purchase at the door. \nEvent includes: \n\nKoi fish release (9 fish)\nQuick Q&A with Children’s Discovery Garden curator Julie Powers \nStory time based on Ponds/Koi\nZen music playing in Children’s Discovery Garden \nCookies to celebrate\nFish food for kids to feed the fish\nScavenger hunt \nBotanic Bar for cash purchases. Options include: mimosas\, coffee\, OJ\, water and more.\nEarly access to Garden before it opens to the public 
URL:https://www.tulsabotanic.org/event/koi-release-party/
ATTACH;FMTTYPE=image/jpeg:https://www.tulsabotanic.org/wp-content/uploads/2022/09/tifenn-degornet-PpwK032gSao-unsplash-scaled.jpg
END:VEVENT
END:VCALENDAR