BEGIN:VCALENDAR
VERSION:2.0
PRODID:-//Tulsa Botanic Garden - ECPv6.10.1.1//NONSGML v1.0//EN
CALSCALE:GREGORIAN
METHOD:PUBLISH
X-ORIGINAL-URL:https://www.tulsabotanic.org
X-WR-CALDESC:Events for Tulsa Botanic Garden
REFRESH-INTERVAL;VALUE=DURATION:PT1H
X-Robots-Tag:noindex
X-PUBLISHED-TTL:PT1H
BEGIN:VTIMEZONE
TZID:America/Chicago
BEGIN:DAYLIGHT
TZOFFSETFROM:-0600
TZOFFSETTO:-0500
TZNAME:CDT
DTSTART:20210314T080000
END:DAYLIGHT
BEGIN:STANDARD
TZOFFSETFROM:-0500
TZOFFSETTO:-0600
TZNAME:CST
DTSTART:20211107T070000
END:STANDARD
END:VTIMEZONE
BEGIN:VEVENT
DTSTART;TZID=America/Chicago:20211212T170000
DTEND;TZID=America/Chicago:20211212T210000
DTSTAMP:20260421T064715
CREATED:20211022T180152Z
LAST-MODIFIED:20211022T180152Z
UID:2005-1639328400-1639342800@www.tulsabotanic.org
SUMMARY:Botanic Garden of Lights
DESCRIPTION:Botanic Garden of Lights 2021\npresented by  \n\n \nThursdays – Sundays\, Nov. 26\,-Dec. 12\, 5-9 p.m. Open nightly: Dec. 16-Jan. 2\, 5-9 p.m.(closed Dec. 24 & 25) SOLD OUT Dec. 9\, 10\, & 11\n\nTimed-entry tickets are on sale now. \n  \nReconnect with family and friends in the garden illuminated with colorful lights. Make s’mores over fire pits\, enjoy holiday music and take in the spirit of the season in our magical garden escape.  \nNIGHTLY: Hot drinks (with spiked options)\, water\, beer\, wine and s’more kits are available every night for purchase.  Holiday hay maze/snowball pit\, photo stops and fire pits will be available each night. (weather permitting)  \nSCHEDULE: Included with your admission on the following dates: \nHoliday MODEL RAILROAD by the Tulsa Garden Railroad club will be in the Mabee Grange: Dec. 2-5BOTANICAL ST. NICK will be here on: Dec. 22 and 23 from 5:30-7:30. Bring your camera!LET IT GO! The Snow Queen and Snow Princess will be visiting on Friday\, Dec. 10 & Saturday\, Dec. 11 from 5:30-7:30 p.m.WISHING LANTERNS: Monday\, Dec. 20\, 5-7 p.m. The Tower Princess will be in the Children’s Discovery Garden from and visitors can purchase a wishing lantern ($5 onsite\, limited quantity) to float in the Round Pond. KID’S TRAIN RIDES are every night except Sundays.  \nLIVE JAZZ MUSIC in the Mabee Grange each Sunday\, 5:30-8:30 p.m. except Jan. 2– Sun.\, Dec. 12: The Booker Gillespie Trio – more info– Sun.\, Dec. 19: The Dean Demerritt Trio– Sun.\, Dec. 26: The Gregory Fallis Trio– Sun.\, Jan. 2: The Gregory Fallis Trio  \nFOOD TRUCK schedule is available here. \nGARDEN MEMBER APPRECIATION NIGHTS: Thursday\, Dec. 30: Free craft for kids\, 5-7 p.m. \n\n  \nDATE NIGHT & PROPOSAL PACKAGES: Date Night Package: $100 \n\n2 TBG Travel Mug w 4 Drink Tickets (Good for any drink at our Botanic Bar. Please be prepared to show ID for alcoholic beverages.)\n2 S’more Packages\n\n*Requires Botanic Garden Light Admission Tickets* Perfect option for a proposal! Must be purchased at least 48 hours in advance. \nInterested in a Proposal without Package? Click Here for more info on proposing at the Botanic Garden. \n\nTIMED ENTRY TICKETS ARE REQUIRED AND MUST BE PURCHASED ONLINE. \nTo offer the best experience for our guests\, we have timed-entry tickets (each hour from 5 to 8 p.m.) and limited capacity throughout the night.  Advance tickets are highly recommended as dates and time-slots do sell out (and ticket prices increase at 5 p.m. on the day of the event.  We offer no guarantee of tickets at the door.  \n\n\n\n AGE\nNon-member\nGarden Member\n\n\n16+: \n$15\n$10\n\n\n3-15 yrs: \n$6\n$5\n\n\n2 and under:\n Free but ticket required\n Free but ticket required\n\n\n\nAdvance ticket prices go off sale at 4:59 p.m. the night of the event.  Starting at 5 p.m.\, if any tickets are available for the event that evening\, they are “At-the-door” prices below (both in person and online): \n\n\n\n AGE\nNon-member\nGarden Member\n\n\n16+: \n$20\n$15\n\n\n3-15 yrs: \n$10\n$8\n\n\n2 and under:\n Free but ticket required\n Free but ticket required\n\n\n\n\nNote: Garden Guest Passes cannot be used for Botanic Garden of Lights. \nA limited number of discounted tickets are available for those who have a valid SNAP or WIC EBT card – see details.  \nMEMBERS: Remember to LOG IN to see your Discounted Pricing \n    \nTHANK YOU TO OUR 2021 BOTANIC GARDEN OF LIGHTS SPONSORS:  Presenting Sponsor: Bank of Oklahoma  \nD & L Oil Tools | Reed Jules Oppenheimer Foundation | CloseBend\, Inc. | First Oklahoma Bank | Site Solar/Randy and Patty Heckenkemper  | Barbara & Allen Smallwood | Triad Eye Institute | Lisa & Tom Weatherholt | Lindsay & Craig Ziettlow | T.D. Williamson | Ludi & John Beasley | JONESPLAN\, LLC | David & Susan Johnson | Mabrey Bank | TranSolPro\, LLC | Blue Sky Bank | GableGotwals |  The Sturdivant Family | Woodrum\, Tate & Associates\, PLLC | TulsaPeople Magazine | Milo’s Tea Company | Aqua Dental | Osage Casino Hotel \n Helpful Tips – \n– Plan your visit and buy tickets in advance. Fridays and Saturdays sell out quickest as well as the week prior to Christmas.  \nArrival: \n– Gates open at 5 p.m. – We open our entrance gates at 5 p.m.  If you arrive early\, please pull to the side to allow food trucks\, volunteers or other staff to have entry.  \n– Check your time period for entry.  We do not guarantee entry if you arrive before or after the timed-entry period shown on your ticket. Tickets are non-refundable. \n– Dress for the weather – This is an outdoor walking event\, dress for the weather and wear comfortable walking shoes. Rain or shine.  \n– Check our social media for last minute updates! If at all possible\, we’ll post menus from the food trucks and other information there – helpful for planning.  \n Food Truck Schedule: Food trucks will be open 5:30-8:30 p.m. Depending on crowd volume\, food trucks may sell out before 8:30 p.m. Tulsa Botanic Garden is not responsible for food truck closure due to sell-out. Updates will be posted here and on our social media.  \n\n\n\nDec. 10\, 11\, 12\nMASA\n\n\nDec. 16\, 17\, 18\nKiss My Cook & Bachelor’s Table\n\n\nSunday\, Dec. 19\nKiss My Cook\n\n\nDec. 20\, 21\, 22\nMASA\n\n\nDec. 23\, 26\, 30\nAndolini’s\n\n\nFriday\, Dec. 31\nBachelor’s Table \n\n\nJan. 1 & 2\nAndolini’s \n\n\n\nMuseums for All – A limited number of tickets are available each night for those who qualify for Museums for All program (currenlty enrolled for SNAP -Supplemental Nutrition Assistance Program or WIC – Women\, Infants & Children Program). Tickets are $6/person for ages 16+ for up to 4 people. Children 3-15 yrs are $1. Ages 2 and under are free\, but require a ticket. Tickets are limited. A Valid SNAP or WIC EBT card and photo ID w/matching name must be shown with tickets at entry.  Purchase online here. \n 
URL:https://www.tulsabotanic.org/event/botanic-garden-of-lights-2/
ATTACH;FMTTYPE=image/jpeg:https://www.tulsabotanic.org/wp-content/uploads/2022/05/featured-default-image_0-78.jpg
END:VEVENT
END:VCALENDAR