BEGIN:VCALENDAR
VERSION:2.0
PRODID:-//Tulsa Botanic Garden - ECPv6.10.1.1//NONSGML v1.0//EN
CALSCALE:GREGORIAN
METHOD:PUBLISH
X-WR-CALNAME:Tulsa Botanic Garden
X-ORIGINAL-URL:https://www.tulsabotanic.org
X-WR-CALDESC:Events for Tulsa Botanic Garden
REFRESH-INTERVAL;VALUE=DURATION:PT1H
X-Robots-Tag:noindex
X-PUBLISHED-TTL:PT1H
BEGIN:VTIMEZONE
TZID:America/Chicago
BEGIN:DAYLIGHT
TZOFFSETFROM:-0600
TZOFFSETTO:-0500
TZNAME:CDT
DTSTART:20210314T080000
END:DAYLIGHT
BEGIN:STANDARD
TZOFFSETFROM:-0500
TZOFFSETTO:-0600
TZNAME:CST
DTSTART:20211107T070000
END:STANDARD
END:VTIMEZONE
BEGIN:VEVENT
DTSTART;TZID=America/Chicago:20210710T100000
DTEND;TZID=America/Chicago:20210710T120000
DTSTAMP:20260421T083437
CREATED:20210602T030757Z
LAST-MODIFIED:20210602T030757Z
UID:2125-1625911200-1625918400@www.tulsabotanic.org
SUMMARY:Supercali Saturdays: Treehouse Tea Party
DESCRIPTION:The Magical Nanny will host a practically perfect tea party in the Tree Fort in the Children’s Discovery Garden.  Join her for story time and sing alongs and refreshments including iced tea\, lemonade\, water and desserts.  Event is come-and-go from 10 a.m. to noon (activities will be repeated through the event). \nSpecial ticket is required for participating in the Tea Party.  \nCost is $10 for Garden members; $20 for non-members and includes Garden admission.  Members: Remember to LOGIN to see member pricing.  Parents who will not eat/drink refreshments can pay general admission ($8 for ages 13+) \n \n  \n 
URL:https://www.tulsabotanic.org/event/supercali-saturdays-treehouse-tea-party/
ATTACH;FMTTYPE=image/jpeg:https://www.tulsabotanic.org/wp-content/uploads/2022/05/featured-default-image_0-113.jpg
END:VEVENT
END:VCALENDAR