BEGIN:VCALENDAR
VERSION:2.0
PRODID:-//Tulsa Botanic Garden - ECPv6.10.1.1//NONSGML v1.0//EN
CALSCALE:GREGORIAN
METHOD:PUBLISH
X-WR-CALNAME:Tulsa Botanic Garden
X-ORIGINAL-URL:https://www.tulsabotanic.org
X-WR-CALDESC:Events for Tulsa Botanic Garden
REFRESH-INTERVAL;VALUE=DURATION:PT1H
X-Robots-Tag:noindex
X-PUBLISHED-TTL:PT1H
BEGIN:VTIMEZONE
TZID:America/Chicago
BEGIN:DAYLIGHT
TZOFFSETFROM:-0600
TZOFFSETTO:-0500
TZNAME:CDT
DTSTART:20210314T080000
END:DAYLIGHT
BEGIN:STANDARD
TZOFFSETFROM:-0500
TZOFFSETTO:-0600
TZNAME:CST
DTSTART:20211107T070000
END:STANDARD
END:VTIMEZONE
BEGIN:VEVENT
DTSTART;TZID=America/Chicago:20210708T170000
DTEND;TZID=America/Chicago:20210708T190000
DTSTAMP:20260421T083431
CREATED:20210607T172520Z
LAST-MODIFIED:20210607T172520Z
UID:2119-1625763600-1625770800@www.tulsabotanic.org
SUMMARY:Mabee Grange Open House
DESCRIPTION:This will be an opportunity for event planners\, vendors and guests to view our J.E. and L.E. Mabee Grange rental space. We will have light refreshments.  Note: Garden is not open to the public during this event.  \nPlease RSVP number of attendees to kwilson@tulsabotanic.org by 7/1/2021.
URL:https://www.tulsabotanic.org/event/mabee-grange-open-house/
ATTACH;FMTTYPE=image/jpeg:https://www.tulsabotanic.org/wp-content/uploads/2022/05/featured-default-image_0-111.jpg
END:VEVENT
END:VCALENDAR