BEGIN:VCALENDAR
VERSION:2.0
PRODID:-//Tulsa Botanic Garden - ECPv6.10.1.1//NONSGML v1.0//EN
CALSCALE:GREGORIAN
METHOD:PUBLISH
X-ORIGINAL-URL:https://www.tulsabotanic.org
X-WR-CALDESC:Events for Tulsa Botanic Garden
REFRESH-INTERVAL;VALUE=DURATION:PT1H
X-Robots-Tag:noindex
X-PUBLISHED-TTL:PT1H
BEGIN:VTIMEZONE
TZID:America/Chicago
BEGIN:DAYLIGHT
TZOFFSETFROM:-0600
TZOFFSETTO:-0500
TZNAME:CDT
DTSTART:20210314T080000
END:DAYLIGHT
BEGIN:STANDARD
TZOFFSETFROM:-0500
TZOFFSETTO:-0600
TZNAME:CST
DTSTART:20211107T070000
END:STANDARD
END:VTIMEZONE
BEGIN:VEVENT
DTSTART;TZID=America/Chicago:20210320T180000
DTEND;TZID=America/Chicago:20210320T200000
DTSTAMP:20260421T082939
CREATED:20210216T213049Z
LAST-MODIFIED:20210216T213049Z
UID:2229-1616263200-1616270400@www.tulsabotanic.org
SUMMARY:Tulips & Tapas
DESCRIPTION:Celebrate the first day of spring with an evening in the A.R. and Marylouise Tandy Floral Terraces.  Enjoy appetizers\, wine and beer.  Bossa (Ana Berry\, Randy Wimer and Michale Bremo) will be playing Bossa Nova\, Latin jazz\, world music and jazz standards with a Bossa beat.  \nTickets are $50 for Garden members and $60 for non-members and are limited.  This event is for ages 21 and up. Masks are required indoors and outside when not actively eating or drinking. \nGarden members – Log in to see/purchase member tickets.Deadline to purchase tickets is 4 p.m. on Wednesday\, March 17.  \n \n 
URL:https://www.tulsabotanic.org/event/tulips-tapas/
ATTACH;FMTTYPE=image/jpeg:https://www.tulsabotanic.org/wp-content/uploads/2022/05/IMG_0729.jpeg
END:VEVENT
END:VCALENDAR