BEGIN:VCALENDAR
VERSION:2.0
PRODID:-//Tulsa Botanic Garden - ECPv6.10.1.1//NONSGML v1.0//EN
CALSCALE:GREGORIAN
METHOD:PUBLISH
X-WR-CALNAME:Tulsa Botanic Garden
X-ORIGINAL-URL:https://www.tulsabotanic.org
X-WR-CALDESC:Events for Tulsa Botanic Garden
REFRESH-INTERVAL;VALUE=DURATION:PT1H
X-Robots-Tag:noindex
X-PUBLISHED-TTL:PT1H
BEGIN:VTIMEZONE
TZID:America/Chicago
BEGIN:DAYLIGHT
TZOFFSETFROM:-0600
TZOFFSETTO:-0500
TZNAME:CDT
DTSTART:20210314T080000
END:DAYLIGHT
BEGIN:STANDARD
TZOFFSETFROM:-0500
TZOFFSETTO:-0600
TZNAME:CST
DTSTART:20211107T070000
END:STANDARD
END:VTIMEZONE
BEGIN:VEVENT
DTSTART;TZID=America/Chicago:20210318T100000
DTEND;TZID=America/Chicago:20210318T200000
DTSTAMP:20260421T100522
CREATED:20210313T014351Z
LAST-MODIFIED:20210313T014351Z
UID:2181-1616061600-1616097600@www.tulsabotanic.org
SUMMARY:Daytime Admission-Adv. Tickets
DESCRIPTION:HOURS: Garden is open Tuesday-Sunday\, 10 a.m. – 5 p.m\, and open until 8 p.m. on Thursdays during Daylight Saving Time.TICKETS: Advance tickets via online purchase are required.  Admission is FREE for Garden members;  $8 for ages 13+\, $4 for ages 3-12. Children 2 and under are free. \nDiscounted admission for SNAP/WIC participants is available: $1 for up to four people (ages 13+). Children 12 and under in group are free. Advance tickets are required and must be obtained by calling 918-289-0330. EBT card and photo ID required at check-in. \nJoin as a member or renew your membership for free admission and more! \n \n *Choose entry time. Your visit can last as long as you like\, until closing at 5 p.m.  \n \nNeed help? Watch our tutorials for Member Reservations or Buying Tickets.Members – you MUST Login to see member (no-cost) tickets. See tutorial for more information.   \nThe health and safety of our guests and staff remain our top priority. In line with CDC (Center for Disease Control and Prevention)\, and state and local health department guidelines regarding COVID-19\, the Botanic Garden has the following protocols and safety meaures in place: \n\nGarden staff members are wearing masks and guests are strongly encouraged to wear masks/face coverings\, especially inside the Visitor Center and restroom where physical distancing of 6 ft. is not possible.\nReminders to practice social distancing while enjoying the Garden’s beauty are placed in strategic areas.\nHand sanitizer is available at stations in Garden areas.\nPlexiglas screens are installed at welcome desks in the Visitor Center.\nOnly credit cards are being accepted – no cash transactions at this time.\nSeating/waiting areas inside Visitor Center are not available.\nHigh-touch items in the Children’s Discovery Garden\, such as paint brushes\, dress-up items\, and mallets for musical instruments have been put away.\nDrinking fountains are inoperable. Refillable water bottle station will be operable.\nHand dryers in restrooms are turned off. Paper towels will be available.\n\n\nAll touchable surfaces inside our Visitor Center and restrooms are being cleaned hourly.\n\nSee all Garden visitor guidelines. \nIf you are not feeling well\, please consider visiting the Botanic Garden at another time. Thank you for supporting the Garden! 
URL:https://www.tulsabotanic.org/event/daytime-admission-adv-tickets-39/
ATTACH;FMTTYPE=image/jpeg:https://www.tulsabotanic.org/wp-content/uploads/2022/05/featured-default-image_0-129.jpg
END:VEVENT
BEGIN:VEVENT
DTSTART;TZID=America/Chicago:20210318T180000
DTEND;TZID=America/Chicago:20210318T190000
DTSTAMP:20260421T100522
CREATED:20210210T234538Z
LAST-MODIFIED:20210210T234538Z
UID:2241-1616090400-1616094000@www.tulsabotanic.org
SUMMARY:Container Gardening Basics
DESCRIPTION:Learn how to select containers\, how to prepare them properly for planting\, and what types of edible plants are well suited to containers. Laura Koval\, owner of AbleVeg will be leading this class. \nClass will be inside the Garden’s Mabee Grange and limited to allow for physical distancing. Doors will be open for air flow and masks required. Tickets are limited and free for Garden members and $8 for non-members (includes Garden admission) and must be purchased in advance. Ages 18+ \n \n  \nMembers: Click on “Buy Tickets”.   Log in to see $0 member tickets.  Advanced tickets are required for everyone.  \nAbout the Instructor:Laura Koval is the Owner of AbleVeg\, a company dedicated to helping backyard gardeners create and confidently maintain their edible gardens. She is a lifelong gardener who fell in love with her first flower garden when she was 3 and has always had something growing since then. She moved to Tulsa in 2015 from Denver\, CO and started volunteering with the Tulsa Master Gardeners soon thereafter. After becoming a foster parent and adopting two small children she realized how important gardening can be for a family\, providing an outdoor sanctuary for all ages that encourages exercise and healthy eating. Her goal is to make gardening possible for everyone and to provide them with the knowledge they need to make their garden thrive.
URL:https://www.tulsabotanic.org/event/container-gardening-basics/
ATTACH;FMTTYPE=image/jpeg:https://www.tulsabotanic.org/wp-content/uploads/2022/05/Containers.jpeg
END:VEVENT
END:VCALENDAR