BEGIN:VCALENDAR
VERSION:2.0
PRODID:-//Tulsa Botanic Garden - ECPv6.10.1.1//NONSGML v1.0//EN
CALSCALE:GREGORIAN
METHOD:PUBLISH
X-ORIGINAL-URL:https://www.tulsabotanic.org
X-WR-CALDESC:Events for Tulsa Botanic Garden
REFRESH-INTERVAL;VALUE=DURATION:PT1H
X-Robots-Tag:noindex
X-PUBLISHED-TTL:PT1H
BEGIN:VTIMEZONE
TZID:America/Chicago
BEGIN:DAYLIGHT
TZOFFSETFROM:-0600
TZOFFSETTO:-0500
TZNAME:CDT
DTSTART:20210314T080000
END:DAYLIGHT
BEGIN:STANDARD
TZOFFSETFROM:-0500
TZOFFSETTO:-0600
TZNAME:CST
DTSTART:20211107T070000
END:STANDARD
END:VTIMEZONE
BEGIN:VEVENT
DTSTART;TZID=America/Chicago:20210313T100000
DTEND;TZID=America/Chicago:20210313T110000
DTSTAMP:20260421T095145
CREATED:20210202T175745Z
LAST-MODIFIED:20210202T175745Z
UID:2265-1615629600-1615633200@www.tulsabotanic.org
SUMMARY:Seed Starting 101
DESCRIPTION:Online Class only\, via Zoom; Materials included and available for pickup at Botanic Garden (details below) \n$5 for Garden Members; $12 for non-members. \nSOLD OUT!  If you are interested in purchasing a kit and getting access to the class recording\, please email. Thank you!  \nReady to work in your garden this year\, but not sure where to start?  Seeds are the very best way to get to know plants!  Even first time gardeners can find success in the garden with the right seeds. Ellen and Andy have selected seed varieties that are suited to our local growing conditions\, so that you can grow and harvest your own veggies and flowers.  Participants will be provided with 8 types of seeds\, from quick harvest radishes\, to flowering zinnias and cosmos to cut and gift to friends and neighbors.  All experience levels are welcome in this class.  We cover the basics\, will provide everything you need to get started\, and provide basic gardening information to help you grow your own.  You will also be better prepared when shopping those tempting seed displays that pop up everywhere in the spring! \nAll materials are included in the price and must be picked up at the Garden by March 12.  Materials include seeds\, growing tray\, potting media\, labels\, and crop specific information included in the kit. Free Garden admission (for registered class participant) is included when picking up class materials. Registration closes Thursday (midnight) prior to class. \nIncluded seeds: Zinnia\, Cosmos\, Pepper\, Cilantro\, Radish\, Green beans\, Kale\, Swiss chard \nA Zoom link for class participants will be emailed out by noon on Friday before class. There is no onsite option for this class. \n Other Online Seed Starting Courses: \n  \nAdvanced Seed Starting: Pollinator and Wildflower Gardening (Feb. 27) \nSeed Starting: Vegetables (March 6\, 10 a.m.) \nAdvanced Seed Starting: Cut Flowers (March 6\, 1 p.m.)
URL:https://www.tulsabotanic.org/event/seed-starting-101-2/
ATTACH;FMTTYPE=image/jpeg:https://www.tulsabotanic.org/wp-content/uploads/2022/05/featured-default-image_0-152.jpg
END:VEVENT
BEGIN:VEVENT
DTSTART;TZID=America/Chicago:20210313T190000
DTEND;TZID=America/Chicago:20210313T220000
DTSTAMP:20260421T095145
CREATED:20210302T025231Z
LAST-MODIFIED:20210302T025231Z
UID:2223-1615662000-1615672800@www.tulsabotanic.org
SUMMARY:Star Night-Cancelled
DESCRIPTION:Enjoy the Garden at night at this come-and-go event. Bring your own chairs or blanket to spread out on the lawn and look up at the night sky. Two telescopes will be set up at the top of the Tandy Floral Terraces\, with staff on hand to facilitate. The new moon will provide darker skies for celestial viewing. \nAdvance tickets are required. Tickets for ages 3 and up are $10 per person for Garden members and $15 per person for non-members. No tickets will be sold at the door. \nSAFETY: Please wear a mask when inside the visitor center and restrooms and anytime outside when physically distancing from others is not possible.  \nWEATHER: If weather conditions warrant cancelling this event\, we will announce on this website and social media by noon of the day of event.  Registrations can be credited to another upcoming event\, membership or refunded. \nUPDATE: Friday\, March 12: Unfortunately\, due to weather this event has been cancelled.  Those who have purchased tickets can use the credit for signing up for an upcoming program\, or general admission tickets.  You will be contacted via email. Thank you.  \n 
URL:https://www.tulsabotanic.org/event/star-night-cancelled/
ATTACH;FMTTYPE=image/jpeg:https://www.tulsabotanic.org/wp-content/uploads/2022/05/starnight.jpg
END:VEVENT
END:VCALENDAR