BEGIN:VCALENDAR
VERSION:2.0
PRODID:-//Tulsa Botanic Garden - ECPv6.10.1.1//NONSGML v1.0//EN
CALSCALE:GREGORIAN
METHOD:PUBLISH
X-WR-CALNAME:Tulsa Botanic Garden
X-ORIGINAL-URL:https://www.tulsabotanic.org
X-WR-CALDESC:Events for Tulsa Botanic Garden
REFRESH-INTERVAL;VALUE=DURATION:PT1H
X-Robots-Tag:noindex
X-PUBLISHED-TTL:PT1H
BEGIN:VTIMEZONE
TZID:America/Chicago
BEGIN:DAYLIGHT
TZOFFSETFROM:-0600
TZOFFSETTO:-0500
TZNAME:CDT
DTSTART:20210314T080000
END:DAYLIGHT
BEGIN:STANDARD
TZOFFSETFROM:-0500
TZOFFSETTO:-0600
TZNAME:CST
DTSTART:20211107T070000
END:STANDARD
END:VTIMEZONE
BEGIN:VEVENT
DTSTART;TZID=America/Chicago:20210213T190000
DTEND;TZID=America/Chicago:20210213T220000
DTSTAMP:20260421T103956
CREATED:20210112T202713Z
LAST-MODIFIED:20210112T202713Z
UID:2311-1613242800-1613253600@www.tulsabotanic.org
SUMMARY:CANCELLED - Star Night
DESCRIPTION:NOTE: Due to hazardous weather conditions\, Star Night has been cancelled.  Ticket holders have been sent emails with further information.  \nEnjoy the Garden at night at this come-and-go event. Bring your own chairs or blanket to spread out on the lawn and look up at the night sky. Two telescopes will be set up at the top of the Tandy Floral Terraces\, with Garden staff on hand to facilitate. The new moon will provide darker skies for celestial viewing. \nAdvance tickets are required. Tickets for ages 3 and up are $10 per person for Garden members and $15 per person for non-members. No tickets will be sold at the door. \nSAFETY: Please wear a mask when inside the visitor center and restrooms and anytime outside when physically distancing from others is not possible.  \nWEATHER: If weather conditions warrant cancelling this event\, we will announce on this website and social media by noon of the day of event.  Registrations can be credited to another upcoming event\, membership or refunded.
URL:https://www.tulsabotanic.org/event/cancelled-star-night/
ATTACH;FMTTYPE=image/jpeg:https://www.tulsabotanic.org/wp-content/uploads/2022/05/featured-default-image_0-168.jpg
END:VEVENT
END:VCALENDAR