BEGIN:VCALENDAR
VERSION:2.0
PRODID:-//Tulsa Botanic Garden - ECPv6.10.1.1//NONSGML v1.0//EN
CALSCALE:GREGORIAN
METHOD:PUBLISH
X-ORIGINAL-URL:https://www.tulsabotanic.org
X-WR-CALDESC:Events for Tulsa Botanic Garden
REFRESH-INTERVAL;VALUE=DURATION:PT1H
X-Robots-Tag:noindex
X-PUBLISHED-TTL:PT1H
BEGIN:VTIMEZONE
TZID:America/Chicago
BEGIN:DAYLIGHT
TZOFFSETFROM:-0600
TZOFFSETTO:-0500
TZNAME:CDT
DTSTART:20200308T080000
END:DAYLIGHT
BEGIN:STANDARD
TZOFFSETFROM:-0500
TZOFFSETTO:-0600
TZNAME:CST
DTSTART:20201101T070000
END:STANDARD
END:VTIMEZONE
BEGIN:VEVENT
DTSTART;TZID=America/Chicago:20201215T100000
DTEND;TZID=America/Chicago:20201215T170000
DTSTAMP:20260421T143524
CREATED:20201107T033935Z
LAST-MODIFIED:20201107T033935Z
UID:2419-1608026400-1608051600@www.tulsabotanic.org
SUMMARY:Daytime Admission-Adv. Tickets
DESCRIPTION:PLEASE NOTE: Tickets link below is for daytime admission.  For GARDEN OF LIGHTS event information and tickets\, click HERE. \nHOURS: Tulsa Botanic Garden is opened with a limited capacity. Garden is open 7 days/week. From Nov. 27-Jan. 3\, open hours will be from 10 a.m. to 3 p.m. on days that Garden of Lights will be open (Thursdays-Sundays)\, this will also apply to dates of Dec. 21\, 22 and 23. On Mondays\, Tuesdays and Wednesdays.hours will be 10 a.m. – 5 p.m\,TICKETS: Advance tickets via online purchase are required.  Admission is FREE for Garden members;  $8 for ages 13+\, $4 for ages 3-12. Children 2 and under are free. \nTimed entry slots are: 10 a.m.-noon\, 1-3 p.m.\, and 3-5 p.m.  No admission to Garden between noon and 1 p.m (You can arrive anytime during your time slot and do not need to leave before it ends-except for 5 p.m. when Garden closes. In the event of inclement weather\, you may request change of ticket date within 7 days of your originally scheduled visit. Tickets not used will be considered a donation to the Garden.) \nDiscounted admission for SNAP/WIC participants is available: $1 for up to four people (ages 13+). Children 12 and under in group are free. Advance tickets are required and must be obtained by calling 918-289-0330. EBT card and photo ID required at check-in. \nJoin as a member or renew your membership for free admission and more! \n \n \nNeed help? Watch our tutorials for Member Reservations or Buying Tickets.Members – you MUST Login to see member (no-cost) tickets. See tutorial for more information.   \n 
URL:https://www.tulsabotanic.org/event/daytime-admission-adv-tickets-114/
ATTACH;FMTTYPE=image/jpeg:https://www.tulsabotanic.org/wp-content/uploads/2022/05/featured-default-image_0-199.jpg
END:VEVENT
END:VCALENDAR