BEGIN:VCALENDAR
VERSION:2.0
PRODID:-//Tulsa Botanic Garden - ECPv6.10.1.1//NONSGML v1.0//EN
CALSCALE:GREGORIAN
METHOD:PUBLISH
X-ORIGINAL-URL:https://www.tulsabotanic.org
X-WR-CALDESC:Events for Tulsa Botanic Garden
REFRESH-INTERVAL;VALUE=DURATION:PT1H
X-Robots-Tag:noindex
X-PUBLISHED-TTL:PT1H
BEGIN:VTIMEZONE
TZID:America/Chicago
BEGIN:DAYLIGHT
TZOFFSETFROM:-0600
TZOFFSETTO:-0500
TZNAME:CDT
DTSTART:20200308T080000
END:DAYLIGHT
BEGIN:STANDARD
TZOFFSETFROM:-0500
TZOFFSETTO:-0600
TZNAME:CST
DTSTART:20201101T070000
END:STANDARD
END:VTIMEZONE
BEGIN:VEVENT
DTSTART;TZID=America/Chicago:20201117T190000
DTEND;TZID=America/Chicago:20201117T220000
DTSTAMP:20260421T130026
CREATED:20201016T031122Z
LAST-MODIFIED:20201016T031122Z
UID:2443-1605639600-1605650400@www.tulsabotanic.org
SUMMARY:Star Night: Meteors
DESCRIPTION:Enjoy the Garden at night! Bring your own chairs or blanket to spread out on the lawn and look up at the night sky. A telescope will be set up at the top of the Tandy Floral Terraces\, with Garden staff on hand to facilitate viewings of stellar\, planetary and deep sky objects.  \nOnly red flashlights are encouraged\, to improve our night vision. We are limiting the number of tickets for this event\, so please register soon if you’re interested in coming. If the weather forces us to cancel this event\, we will offer an alternate date or a refund.  Any announcement regarding cancellation will be made by noon on the event day. \nThe Leonid meteor shower will peak around Nov. 17. On this night\, the moon will be 5% full\, providing darker skies for celestial viewing. \nTICKETS for ages 3 and up are $10 per person for Garden members and $15 per person for non-members.  No tickets will be sold at the door.  \nSAFETY: Please wear a mask when inside the visitor center and restrooms and anytime outside when physically distancing from others is not possible.  \nTHANK YOU FOR YOUR INTEREST – THIS EVENT IS SOLD OUT.
URL:https://www.tulsabotanic.org/event/star-night-meteors/
ATTACH;FMTTYPE=image/jpeg:https://www.tulsabotanic.org/wp-content/uploads/2022/05/featured-default-image_0-210.jpg
END:VEVENT
END:VCALENDAR