BEGIN:VCALENDAR
VERSION:2.0
PRODID:-//Tulsa Botanic Garden - ECPv6.10.1.1//NONSGML v1.0//EN
CALSCALE:GREGORIAN
METHOD:PUBLISH
X-WR-CALNAME:Tulsa Botanic Garden
X-ORIGINAL-URL:https://www.tulsabotanic.org
X-WR-CALDESC:Events for Tulsa Botanic Garden
REFRESH-INTERVAL;VALUE=DURATION:PT1H
X-Robots-Tag:noindex
X-PUBLISHED-TTL:PT1H
BEGIN:VTIMEZONE
TZID:America/Chicago
BEGIN:DAYLIGHT
TZOFFSETFROM:-0600
TZOFFSETTO:-0500
TZNAME:CDT
DTSTART:20200308T080000
END:DAYLIGHT
BEGIN:STANDARD
TZOFFSETFROM:-0500
TZOFFSETTO:-0600
TZNAME:CST
DTSTART:20201101T070000
END:STANDARD
END:VTIMEZONE
BEGIN:VEVENT
DTSTART;TZID=America/Chicago:20201009T100000
DTEND;TZID=America/Chicago:20201009T170000
DTSTAMP:20260421T125934
CREATED:20200910T012814Z
LAST-MODIFIED:20200910T012814Z
UID:2477-1602237600-1602262800@www.tulsabotanic.org
SUMMARY:Kids' DIY: Take & Make Bird Feeders
DESCRIPTION:Each Friday during Autumn In the Garden\, (Fridays\, Sept. 25-Oct. 23) children can pick up a garden activity to do onsite and/or take home to complete.  Friday\, October 9 we’ll have a simple bird feeder craft to take home just in time for fall and winter birds! Most free with Garden admission. Materials fee may apply with some. 
URL:https://www.tulsabotanic.org/event/kids-diy-take-make-bird-feeders/
ATTACH;FMTTYPE=image/jpeg:https://www.tulsabotanic.org/wp-content/uploads/2022/05/featured-default-image_0-224.jpg
END:VEVENT
END:VCALENDAR