BEGIN:VCALENDAR
VERSION:2.0
PRODID:-//Tulsa Botanic Garden - ECPv6.10.1.1//NONSGML v1.0//EN
CALSCALE:GREGORIAN
METHOD:PUBLISH
X-WR-CALNAME:Tulsa Botanic Garden
X-ORIGINAL-URL:https://www.tulsabotanic.org
X-WR-CALDESC:Events for Tulsa Botanic Garden
REFRESH-INTERVAL;VALUE=DURATION:PT1H
X-Robots-Tag:noindex
X-PUBLISHED-TTL:PT1H
BEGIN:VTIMEZONE
TZID:America/Chicago
BEGIN:DAYLIGHT
TZOFFSETFROM:-0600
TZOFFSETTO:-0500
TZNAME:CDT
DTSTART:20200308T080000
END:DAYLIGHT
BEGIN:STANDARD
TZOFFSETFROM:-0500
TZOFFSETTO:-0600
TZNAME:CST
DTSTART:20201101T070000
END:STANDARD
END:VTIMEZONE
BEGIN:VEVENT
DTSTART;TZID=America/Chicago:20201002T100000
DTEND;TZID=America/Chicago:20201002T170000
DTSTAMP:20260421T100605
CREATED:20200910T012624Z
LAST-MODIFIED:20200910T012624Z
UID:2479-1601632800-1601658000@www.tulsabotanic.org
SUMMARY:Kids' DIY: Garden Activity Booklets
DESCRIPTION:Each Friday during Autumn In the Garden\, (Fridays\, Sept. 25-Oct. 23) children can pick up a garden activity to do onsite and/or take home to complete.  Friday\, October 2 we’ll focus on what’s happening in the garden in fall! Most free with Garden admission. Materials fee may apply with some.  One per child\, while supplies last.  \nNOTE: ADVANCE TICKETS ARE REQUIRED.  Purchase ONLINE. 
URL:https://www.tulsabotanic.org/event/kids-diy-garden-activity-booklets/
ATTACH;FMTTYPE=image/jpeg:https://www.tulsabotanic.org/wp-content/uploads/2022/05/featured-default-image_0-225.jpg
END:VEVENT
BEGIN:VEVENT
DTSTART;TZID=America/Chicago:20201002T100000
DTEND;TZID=America/Chicago:20201002T170000
DTSTAMP:20260421T100605
CREATED:20200917T025743Z
LAST-MODIFIED:20200917T025743Z
UID:2461-1601632800-1601658000@www.tulsabotanic.org
SUMMARY:Advance Tickets Required
DESCRIPTION:Tulsa Botanic Garden is opened with a limited capacity. Open Hours\, until further notice: Monday-Sunday (7 days/week)\, 10 a.m. to 5 p.m.Advance tickets\, with timed entry\, via online or phone purchase are required.  Admission is FREE for Garden members;  $8 for ages 13+\, $4 for ages 3-12. Children 2 and under are free. \nDiscounted admission for SNAP/WIC participants is available: $1 for up to four people (ages 13+). Children 12 and under in group are free. Advance tickets are required and must be obtained by calling 918-289-0330. EBT card and photo ID required at check-in. \nTimed entry slots are: 10 a.m.-noon\, 1-3 p.m.\, and 3-5 p.m.  No admission to Garden between noon and 1 p.m (You can arrive anytime during your time slot and do not need to leave before it ends-except for 5 p.m. when Garden closes. In the event of inclement weather\, you may request change of ticket date within 7 days of your originally scheduled visit. Tickets not used will be considered a donation to the Garden.) \nJoin as a member or renew your membership for free admission and more! \nPLEASE NOTE: On Friday\, Oct. 2\, the pumpkin labyrinth\, scarecrows and hay maze area will be closed for set up for Art Fair.  All other Garden areas will be open. \n \n \nNeed help? Watch our tutorials for Member Reservations or Buying Tickets.Members – you MUST Login to see member (no-cost) tickets. See tutorial for more information.   \nThe health and safety of our guests and staff remain our top priority. In line with CDC (Center for Disease Control and Prevention)\, and state and local health department guidelines regarding COVID-19\, the Botanic Garden has the following protocols and safety meaures in place: \n\nGarden staff members are wearing masks and guests are strongly encouraged to wear masks/face coverings\, especially inside the Visitor Center and restroom where physical distancing of 6 ft. is not possible.\nReminders to practice social distancing while enjoying the Garden’s beauty are placed in strategic areas.\nHand sanitizer is available at stations in Garden areas.\nPlexiglas screens are installed at welcome desks in the Visitor Center.\nOnly credit cards are being accepted – no cash transactions at this time.\nGift shop will not be open for shopping but items including bottled water\, sodas\, chips and candy will be available for purchase at entry. (Outside food and drink is allowed\, no alcohol or glass). You are welcome to shop online and schedule curbside pick-up. \nSeating/waiting areas inside Visitor Center are not available.\nHigh-touch items in the Children’s Discovery Garden\, such as paint brushes\, dress-up items\, and mallets for musical instruments have been put away.\nDrinking fountains are inoperable. Refillable water bottle station will be operable.\nHand dryers in restrooms are turned off. Paper towels will be available.\n\n\nAll touchable surfaces inside our Visitor Center and restrooms are being cleaned hourly.\n\nSee all Garden visitor guidelines. \nIf you are not feeling well\, please consider visiting the Botanic Garden at another time. Thank you for supporting the Garden! 
URL:https://www.tulsabotanic.org/event/advance-tickets-required-3/
ATTACH;FMTTYPE=image/jpeg:https://www.tulsabotanic.org/wp-content/uploads/2022/05/featured-default-image_0-216.jpg
END:VEVENT
END:VCALENDAR