BEGIN:VCALENDAR
VERSION:2.0
PRODID:-//Tulsa Botanic Garden - ECPv6.10.1.1//NONSGML v1.0//EN
CALSCALE:GREGORIAN
METHOD:PUBLISH
X-WR-CALNAME:Tulsa Botanic Garden
X-ORIGINAL-URL:https://www.tulsabotanic.org
X-WR-CALDESC:Events for Tulsa Botanic Garden
REFRESH-INTERVAL;VALUE=DURATION:PT1H
X-Robots-Tag:noindex
X-PUBLISHED-TTL:PT1H
BEGIN:VTIMEZONE
TZID:America/Chicago
BEGIN:DAYLIGHT
TZOFFSETFROM:-0600
TZOFFSETTO:-0500
TZNAME:CDT
DTSTART:20200308T080000
END:DAYLIGHT
BEGIN:STANDARD
TZOFFSETFROM:-0500
TZOFFSETTO:-0600
TZNAME:CST
DTSTART:20201101T070000
END:STANDARD
END:VTIMEZONE
BEGIN:VEVENT
DTSTART;TZID=America/Chicago:20200924T100000
DTEND;TZID=America/Chicago:20200927T234500
DTSTAMP:20260421T100603
CREATED:20200910T031951Z
LAST-MODIFIED:20200910T031951Z
UID:2469-1600941600-1601250300@www.tulsabotanic.org
SUMMARY:Fall Plant Sale (Online)
DESCRIPTION:Our Fall Plant Sale will be done through online purchases only.  Proceeds from our plant sales help support the Garden. As always Garden members will have first chance to purchase and receive their discount on purchases.  Join as a member now! \nMEMBERS – You MUST log in to be able to purchase plants.  Do not create a new account.  See our short tutorial (it’s about getting tickets\, but login instructions are the same)  \nDON’T FORGET – Choose your pickup date and time before check out.  \n \nMembers First Plant Sale – starts Thursday\, Sept. 24 at 10 a.m. through 11:59 p.m. on Friday night.  Members get 10% discount on purchases.  Members at the Supporting Level and above now receive 25% discount on plant purchases! Not a Garden member?  Join now to shop first and receive a discount on your purchase.  \nSale opens to public at 12 a.m. on Saturday\, Sept. 26 through Sunday at 11:59 p.m. \nShopping: A list of plants available for the sale will be published closer to sale date.  Watch this page and follow our Facebook event for updates and videos or live events to show plants prior to sale date.  \nPick up: During you purchase\, you will need to select a day and time slot for picking up your plants.  Pick up dates are: Sept. 30\, Oct. 1\, 2\, and 3 10 a.m. – 3:30 p.m. Procedures and dates/times to pickup plants will be strictly adhered to. Garden staff will pull and prepare your plant order for pickup in your vehicle. (there will be no shopping/plant selection at pickup). Plant orders not picked up by Oct. 3 at 3:30 p.m. will be cancelled. \nThank you!: Proceeds from our plant sale help support our operations and mission. \nWatch this page and our Facebook Fall Plant Sale event for more information and photos of plants in the sale.  \nOur Fall 2020 Online Plant Sale List is below. To view/download a list of our Fall Plant Sale (pdf file) click here  \n > \n  \n \n\n\nClick here to open photo album in new window where you can see plant name displayed with each photo.
URL:https://www.tulsabotanic.org/event/fall-plant-sale-online-2/
ATTACH;FMTTYPE=image/jpeg:https://www.tulsabotanic.org/wp-content/uploads/2022/05/featured-default-image_0-220.jpg
END:VEVENT
BEGIN:VEVENT
DTSTART;TZID=America/Chicago:20200927T100000
DTEND;TZID=America/Chicago:20200927T170000
DTSTAMP:20260421T100603
CREATED:20200824T215116Z
LAST-MODIFIED:20200824T215116Z
UID:2503-1601200800-1601226000@www.tulsabotanic.org
SUMMARY:DOG DAY - Advance Tickets Required
DESCRIPTION:Tulsa Botanic Garden is opened with a limited capacity. Open Hours\, until further notice: Monday-Sunday (7 days/week)\, 10 a.m. to 5 p.m.  \nAdvance tickets\, with timed entry\, via online or phone purchase are required.  Admission is FREE for Garden members;  $8 for ages 13+\, $4 for ages 3-12. Children 2 and under are free. Admission is free for Garden member dogs (on Dog Days) and $4 for non-member dogs. \n** SUNDAYS in September are DOG DAYS\, a special day when your four-legged family member can join you for a walk in the Garden.  Member dogs are free; Non-members $4/dog.  Advance tickets are required for all.  Note: Dogs must be controlled on a non-retractable leash at all times and be current on all vaccinations and registrations. Water bowls will be set out. Owners must clean up after their dog. \nDiscounted admission for SNAP/WIC participants is available: $1 for up to four people (ages 13+). Children 12 and under in group are free. Advance tickets are required and must be obtained by calling 918-289-0330. EBT card and photo ID required at check-in. \nTimed entry slots are: 10 a.m.-noon\, 1-3 p.m.\, and 3-5 p.m.  No admission to Garden between noon and 1 p.m (You can arrive anytime during your time slot and do not need to leave before it ends-except for 5 p.m. when Garden closes. In the event of inclement weather\, you may request change of ticket date within 7 days of your originally scheduled visit. Tickets not used will be considered a donation to the Garden.) \nJoin as a member or renew your membership for free admission and more! \n    \n \nNeed help? Watch our tutorials for Member Reservations or Buying Tickets.Members – you MUST Login to see member (no-cost) tickets. See tutorial for more information.  \nThe health and safety of our guests and staff remain our top priority. In line with CDC (Center for Disease Control and Prevention)\, and state and local health department guidelines regarding COVID-19\, the Botanic Garden has the following protocols and safety meaures in place: \n\nGarden staff members are wearing masks and guests are strongly encouraged to wear masks/face coverings\, especially inside the Visitor Center and restroom where physical distancing of 6 ft. is not possible.\nReminders to practice social distancing while enjoying the Garden’s beauty are placed in strategic areas.\nHand sanitizer is available at stations in Garden areas.\nPlexiglas screens are installed at welcome desks in the Visitor Center.\nOnly credit cards are being accepted – no cash transactions at this time.\nGift shop will not be open for shopping but items including bottled water\, sodas\, chips and candy will be available for purchase at entry. (Outside food and drink is allowed\, no alcohol or glass). You are welcome to shop online and schedule curbside pick-up. \nSeating/waiting areas inside Visitor Center are not available.\nHigh-touch items in the Children’s Discovery Garden\, such as paint brushes\, dress-up items\, and mallets for musical instruments have been put away.\nDrinking fountains are inoperable. Refillable water bottle station will be operable.\nHand dryers in restrooms are turned off. Paper towels will be available.\n\n\nAll touchable surfaces inside our Visitor Center and restrooms are being cleaned hourly.\n\nSee all Garden visitor guidelines. \nIf you are not feeling well\, please consider visiting the Botanic Garden at another time. Thank you for  supporting the Garden! 
URL:https://www.tulsabotanic.org/event/dog-day-advance-tickets-required-4/
ATTACH;FMTTYPE=image/jpeg:https://www.tulsabotanic.org/wp-content/uploads/2022/05/dog20days20featured_5_3.jpg
END:VEVENT
BEGIN:VEVENT
DTSTART;TZID=America/Chicago:20200927T140000
DTEND;TZID=America/Chicago:20200927T144500
DTSTAMP:20260421T100603
CREATED:20200910T015704Z
LAST-MODIFIED:20200910T015704Z
UID:2471-1601215200-1601217900@www.tulsabotanic.org
SUMMARY:Walk & Talk: Make a Posie
DESCRIPTION:Join Children’s Discovery Garden curator Ellen Weatherholt in the Barbara and James Sturdivant Family Children’s Amphitheatre for a tutorial on creating small bouquets with a wide variety of flowers. All materials will be provided. Limited to first twenty participants. Participants are asked to wear masks and physically distance with others not in their group. 
URL:https://www.tulsabotanic.org/event/walk-talk-make-a-posie/
ATTACH;FMTTYPE=image/jpeg:https://www.tulsabotanic.org/wp-content/uploads/2022/05/featured-default-image_0-221.jpg
END:VEVENT
END:VCALENDAR